BEGIN:VCALENDAR
VERSION:2.0
PRODID:-//Brighton &amp; Hove Athletic Club - ECPv6.15.20//NONSGML v1.0//EN
CALSCALE:GREGORIAN
METHOD:PUBLISH
X-WR-CALNAME:Brighton &amp; Hove Athletic Club
X-ORIGINAL-URL:https://brightonandhoveac.com
X-WR-CALDESC:Events for Brighton &amp; Hove Athletic Club
REFRESH-INTERVAL;VALUE=DURATION:PT1H
X-Robots-Tag:noindex
X-PUBLISHED-TTL:PT1H
BEGIN:VTIMEZONE
TZID:Europe/London
BEGIN:DAYLIGHT
TZOFFSETFROM:+0000
TZOFFSETTO:+0100
TZNAME:BST
DTSTART:20230326T010000
END:DAYLIGHT
BEGIN:STANDARD
TZOFFSETFROM:+0100
TZOFFSETTO:+0000
TZNAME:GMT
DTSTART:20231029T010000
END:STANDARD
BEGIN:DAYLIGHT
TZOFFSETFROM:+0000
TZOFFSETTO:+0100
TZNAME:BST
DTSTART:20240331T010000
END:DAYLIGHT
BEGIN:STANDARD
TZOFFSETFROM:+0100
TZOFFSETTO:+0000
TZNAME:GMT
DTSTART:20241027T010000
END:STANDARD
BEGIN:DAYLIGHT
TZOFFSETFROM:+0000
TZOFFSETTO:+0100
TZNAME:BST
DTSTART:20250330T010000
END:DAYLIGHT
BEGIN:STANDARD
TZOFFSETFROM:+0100
TZOFFSETTO:+0000
TZNAME:GMT
DTSTART:20251026T010000
END:STANDARD
END:VTIMEZONE
BEGIN:VEVENT
DTSTART;TZID=Europe/London:20240802T183000
DTEND;TZID=Europe/London:20240802T213000
DTSTAMP:20260420T094752
CREATED:20240217T115142Z
LAST-MODIFIED:20240217T115142Z
UID:99376-1722623400-1722634200@brightonandhoveac.com
SUMMARY:Sussex Veterans League Match 4
DESCRIPTION:For athletes 35 years and older
URL:https://brightonandhoveac.com/event/sussex-veterans-league-match-4/
LOCATION:Eastbourne AC\, Eastbourne Sports Park\, Cross Levels Way\, Eastbourne\, BN21 2UF\, United Kingdom
CATEGORIES:Events
ATTACH;FMTTYPE=image/png:https://brightonandhoveac.com/wp-content/uploads/2021/05/sussex_athletics.png
END:VEVENT
BEGIN:VEVENT
DTSTART;TZID=Europe/London:20240817T110000
DTEND;TZID=Europe/London:20240817T170000
DTSTAMP:20260420T094752
CREATED:20240227T183617Z
LAST-MODIFIED:20240331T124412Z
UID:99415-1723892400-1723914000@brightonandhoveac.com
SUMMARY:Southern Athletics League Match 4
DESCRIPTION:Entry via Team Managers
URL:https://brightonandhoveac.com/event/southern-athletics-league-match-4-2/
LOCATION:Bromley\, BR2 9EJ
CATEGORIES:Events
ATTACH;FMTTYPE=image/png:https://brightonandhoveac.com/wp-content/uploads/2019/07/Screenshot-2019-07-26-08.54.33.png
END:VEVENT
BEGIN:VEVENT
DTSTART;TZID=Europe/London:20240831T180000
DTEND;TZID=Europe/London:20240831T210000
DTSTAMP:20260420T094752
CREATED:20240626T083139Z
LAST-MODIFIED:20240626T083139Z
UID:99811-1725127200-1725138000@brightonandhoveac.com
SUMMARY:Sussex U15 League Match 4
DESCRIPTION:Entry via Team Managers
URL:https://brightonandhoveac.com/event/sussex-u15-league-match-4/
LOCATION:Withdean Stadium\, Tongdean Lane\, Brighton\, BN1 5JD\, United Kingdom
CATEGORIES:Events
ATTACH;FMTTYPE=image/png:https://brightonandhoveac.com/wp-content/uploads/2021/05/sussex_athletics.png
END:VEVENT
END:VCALENDAR