BEGIN:VCALENDAR
VERSION:2.0
PRODID:-//Brighton &amp; Hove Athletic Club - ECPv6.15.20//NONSGML v1.0//EN
CALSCALE:GREGORIAN
METHOD:PUBLISH
X-WR-CALNAME:Brighton &amp; Hove Athletic Club
X-ORIGINAL-URL:https://brightonandhoveac.com
X-WR-CALDESC:Events for Brighton &amp; Hove Athletic Club
REFRESH-INTERVAL;VALUE=DURATION:PT1H
X-Robots-Tag:noindex
X-PUBLISHED-TTL:PT1H
BEGIN:VTIMEZONE
TZID:Europe/London
BEGIN:DAYLIGHT
TZOFFSETFROM:+0000
TZOFFSETTO:+0100
TZNAME:BST
DTSTART:20230326T010000
END:DAYLIGHT
BEGIN:STANDARD
TZOFFSETFROM:+0100
TZOFFSETTO:+0000
TZNAME:GMT
DTSTART:20231029T010000
END:STANDARD
BEGIN:DAYLIGHT
TZOFFSETFROM:+0000
TZOFFSETTO:+0100
TZNAME:BST
DTSTART:20240331T010000
END:DAYLIGHT
BEGIN:STANDARD
TZOFFSETFROM:+0100
TZOFFSETTO:+0000
TZNAME:GMT
DTSTART:20241027T010000
END:STANDARD
BEGIN:DAYLIGHT
TZOFFSETFROM:+0000
TZOFFSETTO:+0100
TZNAME:BST
DTSTART:20250330T010000
END:DAYLIGHT
BEGIN:STANDARD
TZOFFSETFROM:+0100
TZOFFSETTO:+0000
TZNAME:GMT
DTSTART:20251026T010000
END:STANDARD
END:VTIMEZONE
BEGIN:VEVENT
DTSTART;TZID=Europe/London:20240428T110000
DTEND;TZID=Europe/London:20240618T170000
DTSTAMP:20260421T111036
CREATED:20240227T184028Z
LAST-MODIFIED:20240227T184028Z
UID:99418-1714302000-1718730000@brightonandhoveac.com
SUMMARY:YDL Upper Age Group Match 1
DESCRIPTION:Entry via Team Manager
URL:https://brightonandhoveac.com/event/ydl-upper-age-group-match-1-2/
LOCATION:Herne Hill Harriers\, SW17 3NP
CATEGORIES:Events
ATTACH;FMTTYPE=image/jpeg:https://brightonandhoveac.com/wp-content/uploads/2022/04/YDL.jpg
ORGANIZER;CN="YDL":MAILTO:https://www.ukydl.org.uk/
END:VEVENT
BEGIN:VEVENT
DTSTART;TZID=Europe/London:20240501T180000
DTEND;TZID=Europe/London:20240501T210000
DTSTAMP:20260421T111036
CREATED:20240331T125111Z
LAST-MODIFIED:20240331T125111Z
UID:99506-1714586400-1714597200@brightonandhoveac.com
SUMMARY:Brighton Phoenix Track Night
DESCRIPTION:Track only event with races from 100m-1500m seeded races
URL:https://brightonandhoveac.com/event/brighton-phoenix-track-night/
LOCATION:Withdean Stadium\, Tongdean Lane\, Brighton\, BN1 5JD\, United Kingdom
CATEGORIES:Events
ATTACH;FMTTYPE=image/png:https://brightonandhoveac.com/wp-content/uploads/2020/01/logo_phoenix-graphic-rounded.png
END:VEVENT
BEGIN:VEVENT
DTSTART;TZID=Europe/London:20240503T180000
DTEND;TZID=Europe/London:20240503T210000
DTSTAMP:20260421T111036
CREATED:20240331T124800Z
LAST-MODIFIED:20240331T124800Z
UID:99504-1714759200-1714770000@brightonandhoveac.com
SUMMARY:Sussex U15 League match 1
DESCRIPTION:Entry via Team Managers
URL:https://brightonandhoveac.com/event/sussex-u15-league-match-1/
LOCATION:Withdean Stadium\, Tongdean Lane\, Brighton\, BN1 5JD\, United Kingdom
CATEGORIES:Events
ATTACH;FMTTYPE=image/png:https://brightonandhoveac.com/wp-content/uploads/2021/05/sussex_athletics.png
END:VEVENT
BEGIN:VEVENT
DTSTART;TZID=Europe/London:20240511T110000
DTEND;TZID=Europe/London:20240511T170000
DTSTAMP:20260421T111036
CREATED:20240331T125344Z
LAST-MODIFIED:20240331T125344Z
UID:99508-1715425200-1715446800@brightonandhoveac.com
SUMMARY:11 and 12th May: Sussex track and field champs
DESCRIPTION:Enter online nearer the time
URL:https://brightonandhoveac.com/event/11-and-12th-may-sussex-track-and-field-champs/
LOCATION:K2\, Crawley\, Pease Pottage Hill\, Crawley\, RH11 9BQ\, United Kingdom
CATEGORIES:Events
ATTACH;FMTTYPE=image/png:https://brightonandhoveac.com/wp-content/uploads/2021/05/sussex_athletics.png
END:VEVENT
BEGIN:VEVENT
DTSTART;TZID=Europe/London:20240518T103000
DTEND;TZID=Europe/London:20240518T170000
DTSTAMP:20260421T111036
CREATED:20240217T115813Z
LAST-MODIFIED:20240420T154358Z
UID:99379-1716028200-1716051600@brightonandhoveac.com
SUMMARY:Southern Athletics League Match 1
DESCRIPTION:for U17 athletes upwards
URL:https://brightonandhoveac.com/event/southern-athletics-league-match-1-3/
LOCATION:Southampton\, Thornhill Rd\,\, Southampton\, SO16 7AY
CATEGORIES:Events
ATTACH;FMTTYPE=image/png:https://brightonandhoveac.com/wp-content/uploads/2019/07/Screenshot-2019-07-26-08.54.33.png
END:VEVENT
BEGIN:VEVENT
DTSTART;TZID=Europe/London:20240519T110000
DTEND;TZID=Europe/London:20240519T170000
DTSTAMP:20260421T111036
CREATED:20240227T184645Z
LAST-MODIFIED:20240227T184645Z
UID:99426-1716116400-1716138000@brightonandhoveac.com
SUMMARY:YDL Lower Age Group Match 2
DESCRIPTION:Entry via Team Managers
URL:https://brightonandhoveac.com/event/ydl-lower-age-group-match-2-3/
LOCATION:Victoria Park\, London\, E9 5EG
CATEGORIES:Events
ATTACH;FMTTYPE=image/jpeg:https://brightonandhoveac.com/wp-content/uploads/2022/04/YDL.jpg
ORGANIZER;CN="YDL":MAILTO:https://www.ukydl.org.uk/
END:VEVENT
BEGIN:VEVENT
DTSTART;TZID=Europe/London:20240520T183000
DTEND;TZID=Europe/London:20240520T210000
DTSTAMP:20260421T111036
CREATED:20240217T114515Z
LAST-MODIFIED:20240217T114515Z
UID:99370-1716229800-1716238800@brightonandhoveac.com
SUMMARY:Sussex Vets League Match 1
DESCRIPTION:For athletes over 35 years \nContact Team Managers Jo Wilding and Shaun Billing for more details (See Team Managers page)
URL:https://brightonandhoveac.com/event/sussex-vets-league-match-1-2/
LOCATION:Lewes AC\, Mountfield Rd\,\, Lewes\, BN7 2XG\, United Kingdom
CATEGORIES:Events
ATTACH;FMTTYPE=image/png:https://brightonandhoveac.com/wp-content/uploads/2021/05/sussex_athletics.png
END:VEVENT
BEGIN:VEVENT
DTSTART;TZID=Europe/London:20240524T170000
DTEND;TZID=Europe/London:20240524T200000
DTSTAMP:20260421T111036
CREATED:20240420T160130Z
LAST-MODIFIED:20240420T160130Z
UID:99595-1716570000-1716580800@brightonandhoveac.com
SUMMARY:Sussex U13 League match 2
DESCRIPTION:Entry via Team Manager
URL:https://brightonandhoveac.com/event/sussex-u13-league-match-2/
LOCATION:Lewes AC\, Mountfield Rd\,\, Lewes\, BN7 2XG\, United Kingdom
CATEGORIES:Events
ATTACH;FMTTYPE=image/png:https://brightonandhoveac.com/wp-content/uploads/2021/05/sussex_athletics.png
END:VEVENT
BEGIN:VEVENT
DTSTART;TZID=Europe/London:20240526T110000
DTEND;TZID=Europe/London:20240526T170000
DTSTAMP:20260421T111036
CREATED:20240227T184349Z
LAST-MODIFIED:20240227T184349Z
UID:99424-1716721200-1716742800@brightonandhoveac.com
SUMMARY:YDL Upper Age Group Match 2
DESCRIPTION:Entry via Team Managers
URL:https://brightonandhoveac.com/event/ydl-upper-age-group-match-2-3/
LOCATION:Withdean Stadium\, Tongdean Lane\, Brighton\, BN1 5JD\, United Kingdom
CATEGORIES:Events
ATTACH;FMTTYPE=image/jpeg:https://brightonandhoveac.com/wp-content/uploads/2022/04/YDL.jpg
ORGANIZER;CN="YDL":MAILTO:https://www.ukydl.org.uk/
END:VEVENT
BEGIN:VEVENT
DTSTART;TZID=Europe/London:20240531T170000
DTEND;TZID=Europe/London:20240531T200000
DTSTAMP:20260421T111036
CREATED:20240420T160258Z
LAST-MODIFIED:20240420T160258Z
UID:99597-1717174800-1717185600@brightonandhoveac.com
SUMMARY:Sussex U15 League match 2
DESCRIPTION:Entry via Team Manager
URL:https://brightonandhoveac.com/event/sussex-u15-league-match-2/
LOCATION:Withdean Stadium\, Tongdean Lane\, Brighton\, BN1 5JD\, United Kingdom
CATEGORIES:Events
ATTACH;FMTTYPE=image/png:https://brightonandhoveac.com/wp-content/uploads/2021/05/sussex_athletics.png
END:VEVENT
END:VCALENDAR