BEGIN:VCALENDAR
VERSION:2.0
PRODID:-//Brighton &amp; Hove Athletic Club - ECPv6.15.20//NONSGML v1.0//EN
CALSCALE:GREGORIAN
METHOD:PUBLISH
X-WR-CALNAME:Brighton &amp; Hove Athletic Club
X-ORIGINAL-URL:https://brightonandhoveac.com
X-WR-CALDESC:Events for Brighton &amp; Hove Athletic Club
REFRESH-INTERVAL;VALUE=DURATION:PT1H
X-Robots-Tag:noindex
X-PUBLISHED-TTL:PT1H
BEGIN:VTIMEZONE
TZID:Europe/London
BEGIN:DAYLIGHT
TZOFFSETFROM:+0000
TZOFFSETTO:+0100
TZNAME:BST
DTSTART:20220327T010000
END:DAYLIGHT
BEGIN:STANDARD
TZOFFSETFROM:+0100
TZOFFSETTO:+0000
TZNAME:GMT
DTSTART:20221030T010000
END:STANDARD
BEGIN:DAYLIGHT
TZOFFSETFROM:+0000
TZOFFSETTO:+0100
TZNAME:BST
DTSTART:20230326T010000
END:DAYLIGHT
BEGIN:STANDARD
TZOFFSETFROM:+0100
TZOFFSETTO:+0000
TZNAME:GMT
DTSTART:20231029T010000
END:STANDARD
BEGIN:DAYLIGHT
TZOFFSETFROM:+0000
TZOFFSETTO:+0100
TZNAME:BST
DTSTART:20240331T010000
END:DAYLIGHT
BEGIN:STANDARD
TZOFFSETFROM:+0100
TZOFFSETTO:+0000
TZNAME:GMT
DTSTART:20241027T010000
END:STANDARD
END:VTIMEZONE
BEGIN:VEVENT
DTSTART;TZID=Europe/London:20231202T110000
DTEND;TZID=Europe/London:20231202T170000
DTSTAMP:20260421T210213
CREATED:20230926T172634Z
LAST-MODIFIED:20230926T172634Z
UID:98984-1701514800-1701536400@brightonandhoveac.com
SUMMARY:Sussex Cross Country League (3) - Stanmer Park
DESCRIPTION:Entry online via Sussex Athletics website
URL:https://brightonandhoveac.com/event/sussex-cross-country-league-3-stanmer-park-2/
LOCATION:Stanmer Park\, Brighton\, BN1 9PY
CATEGORIES:Events
ATTACH;FMTTYPE=image/png:https://brightonandhoveac.com/wp-content/uploads/2021/05/sussex_athletics.png
END:VEVENT
BEGIN:VEVENT
DTSTART;TZID=Europe/London:20231209T103000
DTEND;TZID=Europe/London:20231209T170000
DTSTAMP:20260421T210213
CREATED:20231013T120127Z
LAST-MODIFIED:20231013T121159Z
UID:98997-1702117800-1702141200@brightonandhoveac.com
SUMMARY:South of England Inter-counties XC and South of England Masters
DESCRIPTION:Entry via Team Managers
URL:https://brightonandhoveac.com/event/south-of-england-inter-counties-xc-and-south-of-england-masters/
LOCATION:Horspath\, Oxford
CATEGORIES:Events
ATTACH;FMTTYPE=image/png:https://brightonandhoveac.com/wp-content/uploads/2020/01/seaa-e1580033863936.png
END:VEVENT
BEGIN:VEVENT
DTSTART;TZID=Europe/London:20231210T100000
DTEND;TZID=Europe/London:20231210T150000
DTSTAMP:20260421T210213
CREATED:20231013T120521Z
LAST-MODIFIED:20231013T120521Z
UID:98999-1702202400-1702220400@brightonandhoveac.com
SUMMARY:Sussex Sportshall League  – Under 11\,13 &15
DESCRIPTION:Entry via Team Manager
URL:https://brightonandhoveac.com/event/sussex-sportshall-league-under-1113-15/
LOCATION:Worthing Leisure Centre
CATEGORIES:Events
ATTACH;FMTTYPE=image/png:https://brightonandhoveac.com/wp-content/uploads/2021/05/sussex_athletics.png
END:VEVENT
BEGIN:VEVENT
DTSTART;TZID=Europe/London:20231226T103000
DTEND;TZID=Europe/London:20231226T120000
DTSTAMP:20260421T210213
CREATED:20231013T121033Z
LAST-MODIFIED:20231013T121033Z
UID:99001-1703586600-1703592000@brightonandhoveac.com
SUMMARY:Boxing Day Races
DESCRIPTION:
URL:https://brightonandhoveac.com/event/boxing-day-races/
LOCATION:Preston Park\, London Road\, Brighton\, United Kingdom
CATEGORIES:Events
ATTACH;FMTTYPE=image/png:https://brightonandhoveac.com/wp-content/uploads/2017/01/Brighton-Athletics-Logo.png
END:VEVENT
END:VCALENDAR