BEGIN:VCALENDAR
VERSION:2.0
PRODID:-//Brighton &amp; Hove Athletic Club - ECPv6.15.20//NONSGML v1.0//EN
CALSCALE:GREGORIAN
METHOD:PUBLISH
X-WR-CALNAME:Brighton &amp; Hove Athletic Club
X-ORIGINAL-URL:https://brightonandhoveac.com
X-WR-CALDESC:Events for Brighton &amp; Hove Athletic Club
REFRESH-INTERVAL;VALUE=DURATION:PT1H
X-Robots-Tag:noindex
X-PUBLISHED-TTL:PT1H
BEGIN:VTIMEZONE
TZID:Europe/London
BEGIN:DAYLIGHT
TZOFFSETFROM:+0000
TZOFFSETTO:+0100
TZNAME:BST
DTSTART:20220327T010000
END:DAYLIGHT
BEGIN:STANDARD
TZOFFSETFROM:+0100
TZOFFSETTO:+0000
TZNAME:GMT
DTSTART:20221030T010000
END:STANDARD
BEGIN:DAYLIGHT
TZOFFSETFROM:+0000
TZOFFSETTO:+0100
TZNAME:BST
DTSTART:20230326T010000
END:DAYLIGHT
BEGIN:STANDARD
TZOFFSETFROM:+0100
TZOFFSETTO:+0000
TZNAME:GMT
DTSTART:20231029T010000
END:STANDARD
BEGIN:DAYLIGHT
TZOFFSETFROM:+0000
TZOFFSETTO:+0100
TZNAME:BST
DTSTART:20240331T010000
END:DAYLIGHT
BEGIN:STANDARD
TZOFFSETFROM:+0100
TZOFFSETTO:+0000
TZNAME:GMT
DTSTART:20241027T010000
END:STANDARD
END:VTIMEZONE
BEGIN:VEVENT
DTSTART;TZID=Europe/London:20230204T080000
DTEND;TZID=Europe/London:20230204T170000
DTSTAMP:20260426T031343
CREATED:20221127T160321Z
LAST-MODIFIED:20221127T160321Z
UID:98156-1675497600-1675530000@brightonandhoveac.com
SUMMARY:U20 & Senior Individual Indoor Champs
DESCRIPTION:Two day event 4-5th February
URL:https://brightonandhoveac.com/event/u20-senior-individual-indoor-champs/
LOCATION:Lee Valley\, 61 Meridian Way\, Edmonton\, London\, N9 0AR
ATTACH;FMTTYPE=image/png:https://brightonandhoveac.com/wp-content/uploads/2020/01/seaa-e1580033863936.png
END:VEVENT
BEGIN:VEVENT
DTSTART;TZID=Europe/London:20230211T110000
DTEND;TZID=Europe/London:20230211T170000
DTSTAMP:20260426T031343
CREATED:20221127T153845Z
LAST-MODIFIED:20221127T153845Z
UID:98148-1676113200-1676134800@brightonandhoveac.com
SUMMARY:Sussex Cross Country League (4)
DESCRIPTION:Enter in advance or on the day
URL:https://brightonandhoveac.com/event/sussex-cross-country-league-4/
LOCATION:Stanmer Park\, Brighton\, BN1 9PY
CATEGORIES:Events
ATTACH;FMTTYPE=image/png:https://brightonandhoveac.com/wp-content/uploads/2021/05/sussex_athletics.png
END:VEVENT
BEGIN:VEVENT
DTSTART;TZID=Europe/London:20230226T090000
DTEND;TZID=Europe/London:20230226T110000
DTSTAMP:20260426T031343
CREATED:20221204T171259Z
LAST-MODIFIED:20221204T171347Z
UID:98183-1677402000-1677409200@brightonandhoveac.com
SUMMARY:Brighton Half Marathon and Youth Races
DESCRIPTION:
URL:https://brightonandhoveac.com/event/brighton-half-marathon-and-mini-mile/
LOCATION:Brighton Seafront\, United Kingdom
ATTACH;FMTTYPE=image/png:https://brightonandhoveac.com/wp-content/uploads/2022/12/Half-marathon.png
END:VEVENT
END:VCALENDAR