BEGIN:VCALENDAR
VERSION:2.0
PRODID:-//Brighton &amp; Hove Athletic Club - ECPv6.15.20//NONSGML v1.0//EN
CALSCALE:GREGORIAN
METHOD:PUBLISH
X-WR-CALNAME:Brighton &amp; Hove Athletic Club
X-ORIGINAL-URL:https://brightonandhoveac.com
X-WR-CALDESC:Events for Brighton &amp; Hove Athletic Club
REFRESH-INTERVAL;VALUE=DURATION:PT1H
X-Robots-Tag:noindex
X-PUBLISHED-TTL:PT1H
BEGIN:VTIMEZONE
TZID:Europe/London
BEGIN:DAYLIGHT
TZOFFSETFROM:+0000
TZOFFSETTO:+0100
TZNAME:BST
DTSTART:20180325T010000
END:DAYLIGHT
BEGIN:STANDARD
TZOFFSETFROM:+0100
TZOFFSETTO:+0000
TZNAME:GMT
DTSTART:20181028T010000
END:STANDARD
BEGIN:DAYLIGHT
TZOFFSETFROM:+0000
TZOFFSETTO:+0100
TZNAME:BST
DTSTART:20190331T010000
END:DAYLIGHT
BEGIN:STANDARD
TZOFFSETFROM:+0100
TZOFFSETTO:+0000
TZNAME:GMT
DTSTART:20191027T010000
END:STANDARD
BEGIN:DAYLIGHT
TZOFFSETFROM:+0000
TZOFFSETTO:+0100
TZNAME:BST
DTSTART:20200329T010000
END:DAYLIGHT
BEGIN:STANDARD
TZOFFSETFROM:+0100
TZOFFSETTO:+0000
TZNAME:GMT
DTSTART:20201025T010000
END:STANDARD
END:VTIMEZONE
BEGIN:VEVENT
DTSTART;TZID=Europe/London:20190728T080000
DTEND;TZID=Europe/London:20190728T170000
DTSTAMP:20260422T005035
CREATED:20190517T213713Z
LAST-MODIFIED:20190517T221701Z
UID:93606-1564300800-1564333200@brightonandhoveac.com
SUMMARY:YDL (UAG) Fixture 4\, Withdean
DESCRIPTION:
URL:https://brightonandhoveac.com/event/ydl-uag-fixture-4/
LOCATION:Brighton & Hove AC\, BN15JD\, United Kingdom
CATEGORIES:Events,Fixtures
END:VEVENT
BEGIN:VEVENT
DTSTART;TZID=Europe/London:20190727T100000
DTEND;TZID=Europe/London:20190728T170000
DTSTAMP:20260422T005035
CREATED:20190517T220548Z
LAST-MODIFIED:20190517T221716Z
UID:93628-1564221600-1564333200@brightonandhoveac.com
SUMMARY:England Senior and UKCAU Championships
DESCRIPTION:
URL:https://brightonandhoveac.com/event/england-senior-and-ukcau-championships/
LOCATION:Manchester\, M11 3FF
CATEGORIES:Events
END:VEVENT
BEGIN:VEVENT
DTSTART;TZID=Europe/London:20190720T080000
DTEND;TZID=Europe/London:20190720T170000
DTSTAMP:20260422T005035
CREATED:20190517T214242Z
LAST-MODIFIED:20190517T221741Z
UID:93611-1563609600-1563642000@brightonandhoveac.com
SUMMARY:YDL (LAG) Fixture 3
DESCRIPTION:
URL:https://brightonandhoveac.com/event/ydl-lag/
LOCATION:Guildford AC\, GU1 1EZ
CATEGORIES:Events,Fixtures
END:VEVENT
BEGIN:VEVENT
DTSTART;TZID=Europe/London:20190713T080000
DTEND;TZID=Europe/London:20190713T170000
DTSTAMP:20260422T005035
CREATED:20190517T211332Z
LAST-MODIFIED:20190517T221759Z
UID:93593-1563004800-1563037200@brightonandhoveac.com
SUMMARY:Southern Athletics League Fixture 4
DESCRIPTION:
URL:https://brightonandhoveac.com/event/sal-2/
LOCATION:Tonbridge AC\, Tonbridge School Centre London Road\, Tonbridge\, Kent\, TN10 3AD\, United Kingdom
CATEGORIES:Events,Fixtures
END:VEVENT
BEGIN:VEVENT
DTSTART;TZID=Europe/London:20190712T100000
DTEND;TZID=Europe/London:20190713T173000
DTSTAMP:20260422T005035
CREATED:20190531T161034Z
LAST-MODIFIED:20190531T161425Z
UID:94367-1562925600-1563039000@brightonandhoveac.com
SUMMARY:English Schools' Track & Field Championships
DESCRIPTION:Entry is by selection only. This is done by the Sussex Schools team managers. It is based on performance at the Schools Championships in June of each year\,  and elsewhere in the season. Achieving an ESAA qualifying standard is a minimum.  If there is strong county competition in your event a qualifying standard is not a guarantee of a place in the team.
URL:https://brightonandhoveac.com/event/english-schools-track-field-championships/
LOCATION:Alexander Stadium\, Birmingham\, Walsall Rd\, Perry Bar\, Perry\, Barr Birmingham\, B42 2LR\, United Kingdom
END:VEVENT
BEGIN:VEVENT
DTSTART;TZID=Europe/London:20190710T080000
DTEND;TZID=Europe/London:20190710T170000
DTSTAMP:20260422T005035
CREATED:20190517T214935Z
LAST-MODIFIED:20190517T221821Z
UID:93619-1562745600-1562778000@brightonandhoveac.com
SUMMARY:Crawley AC Open
DESCRIPTION:
URL:https://brightonandhoveac.com/event/crawley-open-2/
LOCATION:K2\, Crawley\, Pease Pottage Hill\, Crawley\, RH11 9BQ\, United Kingdom
CATEGORIES:Events
END:VEVENT
BEGIN:VEVENT
DTSTART;TZID=Europe/London:20190630T080000
DTEND;TZID=Europe/London:20190630T170000
DTSTAMP:20260422T005035
CREATED:20190517T213557Z
LAST-MODIFIED:20190517T221839Z
UID:93602-1561881600-1561914000@brightonandhoveac.com
SUMMARY:YDL (UAG ) Fixture 3
DESCRIPTION:
URL:https://brightonandhoveac.com/event/ydl-fixture-3/
LOCATION:Kingsmeadow\, KT1 3PB
CATEGORIES:Events,Fixtures
END:VEVENT
BEGIN:VEVENT
DTSTART;TZID=Europe/London:20190623T080000
DTEND;TZID=Europe/London:20190623T170000
DTSTAMP:20260422T005035
CREATED:20190517T214110Z
LAST-MODIFIED:20190531T165651Z
UID:93609-1561276800-1561309200@brightonandhoveac.com
SUMMARY:YDL (LAG) Fixture 3\,  Withdean
DESCRIPTION:
URL:https://brightonandhoveac.com/event/ydl-lag-withdean/
LOCATION:Brighton & Hove AC\, BN15JD\, United Kingdom
CATEGORIES:Events,Fixtures
END:VEVENT
BEGIN:VEVENT
DTSTART;TZID=Europe/London:20190622T080000
DTEND;TZID=Europe/London:20190623T170000
DTSTAMP:20260422T005035
CREATED:20190517T220054Z
LAST-MODIFIED:20190528T053822Z
UID:93624-1561190400-1561309200@brightonandhoveac.com
SUMMARY:England Athletics U20/U23 Championships
DESCRIPTION: 
URL:https://brightonandhoveac.com/event/england-athletics-u20-u23-championships/
LOCATION:Bedford International Stadium\, Barkers Lane\, Bedford\, MK41 9SB
CATEGORIES:Events
END:VEVENT
BEGIN:VEVENT
DTSTART;TZID=Europe/London:20190615T080000
DTEND;TZID=Europe/London:20190615T170000
DTSTAMP:20260422T005035
CREATED:20190517T210903Z
LAST-MODIFIED:20190517T221942Z
UID:93589-1560585600-1560618000@brightonandhoveac.com
SUMMARY:Southern Athletics League Fixture 3
DESCRIPTION:
URL:https://brightonandhoveac.com/event/sal/
LOCATION:Chelmsford AC\, Salerno Way\, Chelmsford\, Essex\, CM1 2EH
CATEGORIES:Events,Fixtures
END:VEVENT
BEGIN:VEVENT
DTSTART;TZID=Europe/London:20190614T180000
DTEND;TZID=Europe/London:20190614T200000
DTSTAMP:20260422T005035
CREATED:20190531T165658Z
LAST-MODIFIED:20190531T165658Z
UID:94381-1560535200-1560542400@brightonandhoveac.com
SUMMARY:Sussex U13 League
DESCRIPTION:
URL:https://brightonandhoveac.com/event/sussex-u13-league/
LOCATION:Brighton & Hove AC\, BN15JD\, United Kingdom
END:VEVENT
BEGIN:VEVENT
DTSTART;TZID=Europe/London:20190610T180000
DTEND;TZID=Europe/London:20190610T210000
DTSTAMP:20260422T005035
CREATED:20190531T164912Z
LAST-MODIFIED:20190531T164912Z
UID:94377-1560189600-1560200400@brightonandhoveac.com
SUMMARY:Sussex Vets League
DESCRIPTION:
URL:https://brightonandhoveac.com/event/sussex-vets-league/
LOCATION:Lewes AC\, Mountfield Rd\,\, Lewes\, BN7 2XG\, United Kingdom
END:VEVENT
BEGIN:VEVENT
DTSTART;TZID=Europe/London:20190608T100000
DTEND;TZID=Europe/London:20190608T170000
DTSTAMP:20260422T005035
CREATED:20190517T222649Z
LAST-MODIFIED:20190531T155944Z
UID:93647-1559988000-1560013200@brightonandhoveac.com
SUMMARY:Sussex Schools Championships
DESCRIPTION:Selection is by district. Please contact Leanne Buxton if you were unable to participate but are ranked in the top 10 in the county. \nDetails below: \nSchools Championships and Events
URL:https://brightonandhoveac.com/event/sussex-schools-champonships/
LOCATION:K2\, Crawley\, Pease Pottage Hill\, Crawley\, RH11 9BQ\, United Kingdom
END:VEVENT
BEGIN:VEVENT
DTSTART;TZID=Europe/London:20190605T180000
DTEND;TZID=Europe/London:20190605T210000
DTSTAMP:20260422T005035
CREATED:20190517T214850Z
LAST-MODIFIED:20190517T222002Z
UID:93617-1559757600-1559768400@brightonandhoveac.com
SUMMARY:Crawley AC Open
DESCRIPTION:
URL:https://brightonandhoveac.com/event/crawley-open/
LOCATION:K2\, Crawley\, Pease Pottage Hill\, Crawley\, RH11 9BQ\, United Kingdom
CATEGORIES:Events
END:VEVENT
BEGIN:VEVENT
DTSTART;TZID=Europe/London:20190605T180000
DTEND;TZID=Europe/London:20190605T203000
DTSTAMP:20260422T005035
CREATED:20190531T164717Z
LAST-MODIFIED:20190531T165646Z
UID:94373-1559757600-1559766600@brightonandhoveac.com
SUMMARY:U15 League (East division)
DESCRIPTION:
URL:https://brightonandhoveac.com/event/u15-league-east-division/
LOCATION:Eastbourne AC\, Eastbourne Sports Park\, Cross Levels Way\, Eastbourne\, BN21 2UF\, United Kingdom
END:VEVENT
BEGIN:VEVENT
DTSTART;TZID=Europe/London:20190601T100000
DTEND;TZID=Europe/London:20190602T170000
DTSTAMP:20260422T005035
CREATED:20190514T053338Z
LAST-MODIFIED:20190517T222020Z
UID:93377-1559383200-1559494800@brightonandhoveac.com
SUMMARY:South of England U20 & Senior Championships
DESCRIPTION:
URL:https://brightonandhoveac.com/event/south-of-england-u20-senior-championships/
LOCATION:Bedford International Stadium\, Barkers Lane\, Bedford\, MK41 9SB
CATEGORIES:Events
END:VEVENT
BEGIN:VEVENT
DTSTART;TZID=Europe/London:20190529T180000
DTEND;TZID=Europe/London:20190529T203000
DTSTAMP:20260422T005035
CREATED:20190514T052905Z
LAST-MODIFIED:20190517T222038Z
UID:93372-1559152800-1559161800@brightonandhoveac.com
SUMMARY:Phoenix Open meeting
DESCRIPTION:
URL:https://brightonandhoveac.com/event/phoenix-open-meeting/
LOCATION:Brighton & Hove AC\, BN15JD\, United Kingdom
CATEGORIES:Events
END:VEVENT
BEGIN:VEVENT
DTSTART;TZID=Europe/London:20190529T120000
DTEND;TZID=Europe/London:20190529T170000
DTSTAMP:20260422T005035
CREATED:20190514T053123Z
LAST-MODIFIED:20190517T222332Z
UID:93374-1559131200-1559149200@brightonandhoveac.com
SUMMARY:Sussex Schools Combined Events
DESCRIPTION:For more information go to: \nhttp://sussexathletics.net/schools-athletics-information/schools-championships/
URL:https://brightonandhoveac.com/event/sussex-schools-combined-events/
LOCATION:K2\, Crawley\, Pease Pottage Hill\, Crawley\, RH11 9BQ\, United Kingdom
CATEGORIES:Events
END:VEVENT
BEGIN:VEVENT
DTSTART;TZID=Europe/London:20190526T080000
DTEND;TZID=Europe/London:20190526T190000
DTSTAMP:20260422T005035
CREATED:20190514T052808Z
LAST-MODIFIED:20190517T222350Z
UID:93369-1558857600-1558897200@brightonandhoveac.com
SUMMARY:YDL (UAG) Fixture 2
DESCRIPTION:
URL:https://brightonandhoveac.com/event/ydl-uag/
LOCATION:Hillingdon\, United Kingdom
CATEGORIES:Events,Fixtures
END:VEVENT
BEGIN:VEVENT
DTSTART;TZID=Europe/London:20190519T000000
DTEND;TZID=Europe/London:20190519T170000
DTSTAMP:20260422T005035
CREATED:20190215T174322Z
LAST-MODIFIED:20190518T132340Z
UID:1620-1558224000-1558285200@brightonandhoveac.com
SUMMARY:Southern Athletics League -  Fixture 2
DESCRIPTION:
URL:https://brightonandhoveac.com/event/this-is-my-test-fixture/
LOCATION:Brighton & Hove AC\, BN15JD\, United Kingdom
CATEGORIES:Fixtures
END:VEVENT
END:VCALENDAR