BEGIN:VCALENDAR
VERSION:2.0
PRODID:-//Brighton &amp; Hove Athletic Club - ECPv6.15.20//NONSGML v1.0//EN
CALSCALE:GREGORIAN
METHOD:PUBLISH
X-WR-CALNAME:Brighton &amp; Hove Athletic Club
X-ORIGINAL-URL:https://brightonandhoveac.com
X-WR-CALDESC:Events for Brighton &amp; Hove Athletic Club
REFRESH-INTERVAL;VALUE=DURATION:PT1H
X-Robots-Tag:noindex
X-PUBLISHED-TTL:PT1H
BEGIN:VTIMEZONE
TZID:Europe/London
BEGIN:DAYLIGHT
TZOFFSETFROM:+0000
TZOFFSETTO:+0100
TZNAME:BST
DTSTART:20210328T010000
END:DAYLIGHT
BEGIN:STANDARD
TZOFFSETFROM:+0100
TZOFFSETTO:+0000
TZNAME:GMT
DTSTART:20211031T010000
END:STANDARD
BEGIN:DAYLIGHT
TZOFFSETFROM:+0000
TZOFFSETTO:+0100
TZNAME:BST
DTSTART:20220327T010000
END:DAYLIGHT
BEGIN:STANDARD
TZOFFSETFROM:+0100
TZOFFSETTO:+0000
TZNAME:GMT
DTSTART:20221030T010000
END:STANDARD
BEGIN:DAYLIGHT
TZOFFSETFROM:+0000
TZOFFSETTO:+0100
TZNAME:BST
DTSTART:20230326T010000
END:DAYLIGHT
BEGIN:STANDARD
TZOFFSETFROM:+0100
TZOFFSETTO:+0000
TZNAME:GMT
DTSTART:20231029T010000
END:STANDARD
END:VTIMEZONE
BEGIN:VEVENT
DTSTART;TZID=Europe/London:20221009T093000
DTEND;TZID=Europe/London:20221009T120000
DTSTAMP:20260420T044234
CREATED:20220924T080742Z
LAST-MODIFIED:20220924T080806Z
UID:97962-1665307800-1665316800@brightonandhoveac.com
SUMMARY:Sussex 10k County Championships
DESCRIPTION:The Sussex 10k Championships is incorporated into the Worthing 10km road race \nEntry prior to race on the website
URL:https://brightonandhoveac.com/event/sussex-10k-county-championships/
LOCATION:Worthing Seafront
CATEGORIES:Events
ATTACH;FMTTYPE=image/jpeg:https://brightonandhoveac.com/wp-content/uploads/2022/09/worthing10k.jpg
END:VEVENT
BEGIN:VEVENT
DTSTART;TZID=Europe/London:20221008T110000
DTEND;TZID=Europe/London:20221008T120000
DTSTAMP:20260420T044234
CREATED:20220924T082231Z
LAST-MODIFIED:20220924T082322Z
UID:97972-1665226800-1665230400@brightonandhoveac.com
SUMMARY:Worthing mile races
DESCRIPTION:Part of the Worthing 10k weekend. Entry via the website for ages 7-100
URL:https://brightonandhoveac.com/event/worthing-mile-races/
LOCATION:Worthing Seafront
ATTACH;FMTTYPE=image/jpeg:https://brightonandhoveac.com/wp-content/uploads/2022/09/worthing10k.jpg
END:VEVENT
BEGIN:VEVENT
DTSTART;TZID=Europe/London:20221006T080000
DTEND;TZID=Europe/London:20221006T170000
DTSTAMP:20260420T044234
CREATED:20221006T075245Z
LAST-MODIFIED:20221006T075245Z
UID:98026-1665043200-1665075600@brightonandhoveac.com
SUMMARY:Sussex Sportshall Regional Final
DESCRIPTION:Venue: Burgess Hill (tbc) \nIndoor league for U11\, U13 and U15 athletes.   Entry via Team Manager
URL:https://brightonandhoveac.com/event/sussex-sportshall-regional-final/
LOCATION:To be confirmed
CATEGORIES:Events
ATTACH;FMTTYPE=image/png:https://brightonandhoveac.com/wp-content/uploads/2021/05/sussex_athletics.png
END:VEVENT
BEGIN:VEVENT
DTSTART;TZID=Europe/London:20221001T113000
DTEND;TZID=Europe/London:20221001T160000
DTSTAMP:20260420T044234
CREATED:20220924T075413Z
LAST-MODIFIED:20220924T075413Z
UID:97957-1664623800-1664640000@brightonandhoveac.com
SUMMARY:Sussex Cross Country Relays
DESCRIPTION:Entry via Team Managers \nTeam event for ages U11 to veterans \n 
URL:https://brightonandhoveac.com/event/sussex-cross-country-relays-2/
LOCATION:Goodwood Race Course\, PO18 0PS
CATEGORIES:Events
ATTACH;FMTTYPE=image/png:https://brightonandhoveac.com/wp-content/uploads/2021/05/sussex_athletics.png
END:VEVENT
BEGIN:VEVENT
DTSTART;TZID=Europe/London:20220910T103000
DTEND;TZID=Europe/London:20220910T170000
DTSTAMP:20260420T044234
CREATED:20220324T075734Z
LAST-MODIFIED:20220324T075734Z
UID:97636-1662805800-1662829200@brightonandhoveac.com
SUMMARY:Southern Athletics League (Match 5)
DESCRIPTION:Entries via Team Manager
URL:https://brightonandhoveac.com/event/southern-athletics-league-match-5/
LOCATION:Perivale
CATEGORIES:Events
ATTACH;FMTTYPE=image/png:https://brightonandhoveac.com/wp-content/uploads/2019/07/Screenshot-2019-07-26-08.54.33.png
END:VEVENT
BEGIN:VEVENT
DTSTART;TZID=Europe/London:20220904T000000
DTEND;TZID=Europe/London:20220904T000000
DTSTAMP:20260420T044234
CREATED:20220512T143340Z
LAST-MODIFIED:20220716T151133Z
UID:97729-1662249600-1662249600@brightonandhoveac.com
SUMMARY:U13 Sussex League Final
DESCRIPTION:Entry via Team Manager
URL:https://brightonandhoveac.com/event/u13-sussex-league-final/
LOCATION:K2\, Crawley\, Pease Pottage Hill\, Crawley\, RH11 9BQ\, United Kingdom
CATEGORIES:Events
ATTACH;FMTTYPE=image/png:https://brightonandhoveac.com/wp-content/uploads/2021/05/sussex_athletics.png
END:VEVENT
BEGIN:VEVENT
DTSTART;TZID=Europe/London:20220902T183000
DTEND;TZID=Europe/London:20220902T200000
DTSTAMP:20260420T044234
CREATED:20220512T143517Z
LAST-MODIFIED:20220716T150614Z
UID:97731-1662143400-1662148800@brightonandhoveac.com
SUMMARY:U15 Sussex League Final
DESCRIPTION:Entry via Team Manager
URL:https://brightonandhoveac.com/event/u15-sussex-league-final/
LOCATION:To be confirmed
CATEGORIES:Events
ATTACH;FMTTYPE=image/png:https://brightonandhoveac.com/wp-content/uploads/2021/05/sussex_athletics.png
END:VEVENT
BEGIN:VEVENT
DTSTART;TZID=Europe/London:20220902T183000
DTEND;TZID=Europe/London:20220902T200000
DTSTAMP:20260420T044234
CREATED:20220428T134604Z
LAST-MODIFIED:20220716T150440Z
UID:97670-1662143400-1662148800@brightonandhoveac.com
SUMMARY:Sussex U15 Final
DESCRIPTION:Entry via Team Manager
URL:https://brightonandhoveac.com/event/sussex-u15-final/
LOCATION:Withdean Stadium\, Tongdean Lane\, Brighton\, BN1 5JD\, United Kingdom
CATEGORIES:Events
ATTACH;FMTTYPE=image/png:https://brightonandhoveac.com/wp-content/uploads/2021/05/sussex_athletics.png
END:VEVENT
BEGIN:VEVENT
DTSTART;TZID=Europe/London:20220813T103000
DTEND;TZID=Europe/London:20220813T170000
DTSTAMP:20260420T044234
CREATED:20220324T075059Z
LAST-MODIFIED:20220324T075312Z
UID:97627-1660386600-1660410000@brightonandhoveac.com
SUMMARY:Southern Athletics League (Match 4)
DESCRIPTION:Entries via Team Manager
URL:https://brightonandhoveac.com/event/southern-athletics-league-match-3/
LOCATION:Withdean Stadium\, Tongdean Lane\, Brighton\, BN1 5JD\, United Kingdom
CATEGORIES:Events
ATTACH;FMTTYPE=image/png:https://brightonandhoveac.com/wp-content/uploads/2019/07/Screenshot-2019-07-26-08.54.33.png
END:VEVENT
BEGIN:VEVENT
DTSTART;TZID=Europe/London:20220807T100000
DTEND;TZID=Europe/London:20220807T170000
DTSTAMP:20260420T044234
CREATED:20220428T131110Z
LAST-MODIFIED:20220716T150526Z
UID:97659-1659866400-1659891600@brightonandhoveac.com
SUMMARY:YDL Upper Age Group Match 4
DESCRIPTION:Entry via Team Manager
URL:https://brightonandhoveac.com/event/ydl-upper-age-group-match-4/
LOCATION:Mountbatten Stadium\, Portsmouth
CATEGORIES:Events
ATTACH;FMTTYPE=image/jpeg:https://brightonandhoveac.com/wp-content/uploads/2019/05/YDL.jpg
END:VEVENT
BEGIN:VEVENT
DTSTART;TZID=Europe/London:20220730T080000
DTEND;TZID=Europe/London:20220730T170000
DTSTAMP:20260420T044234
CREATED:20220428T131701Z
LAST-MODIFIED:20220428T143040Z
UID:97668-1659168000-1659200400@brightonandhoveac.com
SUMMARY:YDL Lower Age Group Match 3
DESCRIPTION:Entry via Team Manager
URL:https://brightonandhoveac.com/event/ydl-lower-age-group-match-3/
LOCATION:Tooting Bec\, London
CATEGORIES:Events
ATTACH;FMTTYPE=image/jpeg:https://brightonandhoveac.com/wp-content/uploads/2019/05/YDL.jpg
END:VEVENT
BEGIN:VEVENT
DTSTART;TZID=Europe/London:20220725T180000
DTEND;TZID=Europe/London:20220725T210000
DTSTAMP:20260420T044234
CREATED:20220607T071952Z
LAST-MODIFIED:20220607T071952Z
UID:97826-1658772000-1658782800@brightonandhoveac.com
SUMMARY:Sussex Vets League (Match 3)
DESCRIPTION:Entries Via Team Managers
URL:https://brightonandhoveac.com/event/sussex-vets-league-match-3/
LOCATION:Lewes AC\, Mountfield Rd\,\, Lewes\, BN7 2XG\, United Kingdom
CATEGORIES:Events
ATTACH;FMTTYPE=image/png:https://brightonandhoveac.com/wp-content/uploads/2021/05/sussex_athletics.png
END:VEVENT
BEGIN:VEVENT
DTSTART;TZID=Europe/London:20220722T183000
DTEND;TZID=Europe/London:20220722T200000
DTSTAMP:20260420T044234
CREATED:20220428T145551Z
LAST-MODIFIED:20220716T150257Z
UID:97682-1658514600-1658520000@brightonandhoveac.com
SUMMARY:Sussex U15 League (3)
DESCRIPTION:Entry via Team Manager
URL:https://brightonandhoveac.com/event/sussex-u15-league-3/
LOCATION:Withdean Stadium\, Tongdean Lane\, Brighton\, BN1 5JD\, United Kingdom
CATEGORIES:Events
ATTACH;FMTTYPE=image/png:https://brightonandhoveac.com/wp-content/uploads/2021/05/sussex_athletics.png
END:VEVENT
BEGIN:VEVENT
DTSTART;TZID=Europe/London:20220716T103000
DTEND;TZID=Europe/London:20220716T170000
DTSTAMP:20260420T044234
CREATED:20220324T075529Z
LAST-MODIFIED:20220324T075529Z
UID:97632-1657967400-1657990800@brightonandhoveac.com
SUMMARY:Southern Athletics League (Match 3)
DESCRIPTION:Entries via Team Manager
URL:https://brightonandhoveac.com/event/southern-athletics-league-match-3-2/
LOCATION:Stevenage
CATEGORIES:Events
ATTACH;FMTTYPE=image/png:https://brightonandhoveac.com/wp-content/uploads/2019/07/Screenshot-2019-07-26-08.54.33.png
END:VEVENT
BEGIN:VEVENT
DTSTART;TZID=Europe/London:20220715T170000
DTEND;TZID=Europe/London:20220715T200000
DTSTAMP:20260420T044234
CREATED:20220428T145407Z
LAST-MODIFIED:20220428T151032Z
UID:97680-1657904400-1657915200@brightonandhoveac.com
SUMMARY:Sussex U13 League (3)
DESCRIPTION:Entry via Team Manager
URL:https://brightonandhoveac.com/event/sussex-u13-league-3/
LOCATION:Lewes AC\, Mountfield Rd\,\, Lewes\, BN7 2XG\, United Kingdom
CATEGORIES:Events
ATTACH;FMTTYPE=image/png:https://brightonandhoveac.com/wp-content/uploads/2021/05/sussex_athletics.png
END:VEVENT
BEGIN:VEVENT
DTSTART;TZID=Europe/London:20220709T100000
DTEND;TZID=Europe/London:20220709T170000
DTSTAMP:20260420T044234
CREATED:20220512T144117Z
LAST-MODIFIED:20220512T144117Z
UID:97737-1657360800-1657386000@brightonandhoveac.com
SUMMARY:Sussex U11 Quad Kids and U13 Championships
DESCRIPTION:Enter online
URL:https://brightonandhoveac.com/event/sussex-u11-quad-kids-and-u13-championships/
LOCATION:To be confirmed
CATEGORIES:Events
ATTACH;FMTTYPE=image/png:https://brightonandhoveac.com/wp-content/uploads/2021/05/sussex_athletics.png
END:VEVENT
BEGIN:VEVENT
DTSTART;TZID=Europe/London:20220703T080000
DTEND;TZID=Europe/London:20220703T170000
DTSTAMP:20260420T044234
CREATED:20220428T131520Z
LAST-MODIFIED:20220428T131520Z
UID:97665-1656835200-1656867600@brightonandhoveac.com
SUMMARY:YDL Lower Age Group Match 2
DESCRIPTION:Entry via Team Managers
URL:https://brightonandhoveac.com/event/ydl-lower-age-group-match-2/
LOCATION:Croydon Arena
CATEGORIES:Events
ATTACH;FMTTYPE=image/jpeg:https://brightonandhoveac.com/wp-content/uploads/2019/05/YDL.jpg
END:VEVENT
BEGIN:VEVENT
DTSTART;TZID=Europe/London:20220626T080000
DTEND;TZID=Europe/London:20220626T170000
DTSTAMP:20260420T044234
CREATED:20220428T130815Z
LAST-MODIFIED:20220428T130815Z
UID:97655-1656230400-1656262800@brightonandhoveac.com
SUMMARY:YDL Upper Age Group match 3
DESCRIPTION:Entry via Team Manager
URL:https://brightonandhoveac.com/event/ydl-upper-age-group-match-3/
LOCATION:Bannister Park\, Harrow
CATEGORIES:Events
ATTACH;FMTTYPE=image/jpeg:https://brightonandhoveac.com/wp-content/uploads/2019/05/YDL.jpg
END:VEVENT
BEGIN:VEVENT
DTSTART;TZID=Europe/London:20220624T170000
DTEND;TZID=Europe/London:20220624T200000
DTSTAMP:20260420T044234
CREATED:20220428T145240Z
LAST-MODIFIED:20220428T145240Z
UID:97678-1656090000-1656100800@brightonandhoveac.com
SUMMARY:Sussex U15 League (2)
DESCRIPTION:Entry via Team Manager
URL:https://brightonandhoveac.com/event/sussex-u15-league-2/
LOCATION:Withdean Stadium\, Tongdean Lane\, Brighton\, BN1 5JD\, United Kingdom
CATEGORIES:Events
ATTACH;FMTTYPE=image/png:https://brightonandhoveac.com/wp-content/uploads/2021/05/sussex_athletics.png
END:VEVENT
BEGIN:VEVENT
DTSTART;TZID=Europe/London:20220617T170000
DTEND;TZID=Europe/London:20220617T200000
DTSTAMP:20260420T044234
CREATED:20220428T145030Z
LAST-MODIFIED:20220428T145030Z
UID:97675-1655485200-1655496000@brightonandhoveac.com
SUMMARY:Sussex U13 League (2)
DESCRIPTION:Entry via Team Managers
URL:https://brightonandhoveac.com/event/sussex-u13-league-2/
LOCATION:Withdean Stadium\, Tongdean Lane\, Brighton\, BN1 5JD\, United Kingdom
CATEGORIES:Events
ATTACH;FMTTYPE=image/png:https://brightonandhoveac.com/wp-content/uploads/2021/05/sussex_athletics.png
END:VEVENT
BEGIN:VEVENT
DTSTART;TZID=Europe/London:20220615T180000
DTEND;TZID=Europe/London:20220615T210000
DTSTAMP:20260420T044234
CREATED:20220607T071803Z
LAST-MODIFIED:20220607T071803Z
UID:97824-1655316000-1655326800@brightonandhoveac.com
SUMMARY:Sussex Vets League (Match 2)
DESCRIPTION:Entry via Team Managers
URL:https://brightonandhoveac.com/event/sussex-vets-league-match-2/
LOCATION:Eastbourne AC\, Eastbourne Sports Park\, Cross Levels Way\, Eastbourne\, BN21 2UF\, United Kingdom
CATEGORIES:Events
ATTACH;FMTTYPE=image/png:https://brightonandhoveac.com/wp-content/uploads/2021/05/sussex_athletics.png
END:VEVENT
BEGIN:VEVENT
DTSTART;TZID=Europe/London:20220612T103000
DTEND;TZID=Europe/London:20220612T170000
DTSTAMP:20260420T044234
CREATED:20220324T074925Z
LAST-MODIFIED:20220324T074925Z
UID:97624-1655029800-1655053200@brightonandhoveac.com
SUMMARY:Southern Athletics League (Match 2)
DESCRIPTION:Entries via Team Manager
URL:https://brightonandhoveac.com/event/southern-athletics-league-match-2/
LOCATION:Mile End
CATEGORIES:Events
ATTACH;FMTTYPE=image/png:https://brightonandhoveac.com/wp-content/uploads/2019/07/Screenshot-2019-07-26-08.54.33.png
END:VEVENT
BEGIN:VEVENT
DTSTART;TZID=Europe/London:20220601T170000
DTEND;TZID=Europe/London:20220601T210000
DTSTAMP:20260420T044234
CREATED:20220427T162112Z
LAST-MODIFIED:20220427T162112Z
UID:97649-1654102800-1654117200@brightonandhoveac.com
SUMMARY:Sussex and Surrey Schools Combined Events Open
DESCRIPTION:Sussex Schools and Surrey Schools are hosting an open event to give U13\, U15 and U17 athletes an opportunity to try out multi-events on Wednesday 1st June\, at K2 Stadium\, Crawley\, RH11 9BQ.
URL:https://brightonandhoveac.com/event/sussex-and-surrey-schools-combined-events-open/
LOCATION:K2\, Crawley\, Pease Pottage Hill\, Crawley\, RH11 9BQ\, United Kingdom
CATEGORIES:Events
END:VEVENT
BEGIN:VEVENT
DTSTART;TZID=Europe/London:20220529T080000
DTEND;TZID=Europe/London:20220529T170000
DTSTAMP:20260420T044234
CREATED:20220428T130602Z
LAST-MODIFIED:20220428T130927Z
UID:97653-1653811200-1653843600@brightonandhoveac.com
SUMMARY:YDL Upper Age Group Match 2
DESCRIPTION:Entry via Team Manager
URL:https://brightonandhoveac.com/event/ydl-upper-age-group-match-2/
LOCATION:Kings Park\, Bournemouth
CATEGORIES:Events
ATTACH;FMTTYPE=image/jpeg:https://brightonandhoveac.com/wp-content/uploads/2019/05/YDL.jpg
END:VEVENT
BEGIN:VEVENT
DTSTART;TZID=Europe/London:20220527T180000
DTEND;TZID=Europe/London:20220527T210000
DTSTAMP:20260420T044234
CREATED:20220317T154659Z
LAST-MODIFIED:20220317T154659Z
UID:97610-1653674400-1653685200@brightonandhoveac.com
SUMMARY:Sussex U15 League (1)
DESCRIPTION:
URL:https://brightonandhoveac.com/event/sussex-u15-league-1/
LOCATION:Withdean Stadium\, Tongdean Lane\, Brighton\, BN1 5JD\, United Kingdom
CATEGORIES:Events
ATTACH;FMTTYPE=image/png:https://brightonandhoveac.com/wp-content/uploads/2021/05/sussex_athletics.png
END:VEVENT
BEGIN:VEVENT
DTSTART;TZID=Europe/London:20220523T180000
DTEND;TZID=Europe/London:20220523T203000
DTSTAMP:20260420T044234
CREATED:20220317T154141Z
LAST-MODIFIED:20220317T154141Z
UID:97608-1653328800-1653337800@brightonandhoveac.com
SUMMARY:Sussex Vets League (1)
DESCRIPTION:Entry via Team Managers (Jo Wilding and Shaun Biling) for athletes V40 upwards
URL:https://brightonandhoveac.com/event/sussex-vets-league-1/
LOCATION:Lewes AC\, Mountfield Rd\,\, Lewes\, BN7 2XG\, United Kingdom
CATEGORIES:Events
ATTACH;FMTTYPE=image/png:https://brightonandhoveac.com/wp-content/uploads/2021/05/sussex_athletics.png
END:VEVENT
BEGIN:VEVENT
DTSTART;TZID=Europe/London:20220522T103000
DTEND;TZID=Europe/London:20220522T170000
DTSTAMP:20260420T044234
CREATED:20220324T074756Z
LAST-MODIFIED:20220324T074756Z
UID:97621-1653215400-1653238800@brightonandhoveac.com
SUMMARY:Southern Athletics League (Match 1)
DESCRIPTION:Entries via Team Manager
URL:https://brightonandhoveac.com/event/southern-athletics-league-match-1/
LOCATION:Croydon
CATEGORIES:Events
ATTACH;FMTTYPE=image/png:https://brightonandhoveac.com/wp-content/uploads/2019/07/Screenshot-2019-07-26-08.54.33.png
END:VEVENT
BEGIN:VEVENT
DTSTART;TZID=Europe/London:20220521T100000
DTEND;TZID=Europe/London:20220521T170000
DTSTAMP:20260420T044234
CREATED:20220512T142254Z
LAST-MODIFIED:20220512T142254Z
UID:97726-1653127200-1653152400@brightonandhoveac.com
SUMMARY:Lower Age Group YDL
DESCRIPTION:
URL:https://brightonandhoveac.com/event/lower-age-group-ydl-2/
LOCATION:To be confirmed
CATEGORIES:Events
ATTACH;FMTTYPE=image/jpeg:https://brightonandhoveac.com/wp-content/uploads/2022/04/YDL.jpg
END:VEVENT
BEGIN:VEVENT
DTSTART;TZID=Europe/London:20220515T100000
DTEND;TZID=Europe/London:20220515T170000
DTSTAMP:20260420T044234
CREATED:20220317T153548Z
LAST-MODIFIED:20220317T153548Z
UID:97604-1652608800-1652634000@brightonandhoveac.com
SUMMARY:Sussex County Track and Field Championships (Day 2)
DESCRIPTION:
URL:https://brightonandhoveac.com/event/sussex-county-track-and-field-championships-day-2/
LOCATION:K2\, Crawley\, Pease Pottage Hill\, Crawley\, RH11 9BQ\, United Kingdom
CATEGORIES:Events
ATTACH;FMTTYPE=image/png:https://brightonandhoveac.com/wp-content/uploads/2021/05/sussex_athletics.png
END:VEVENT
BEGIN:VEVENT
DTSTART;TZID=Europe/London:20220514T103000
DTEND;TZID=Europe/London:20220514T170000
DTSTAMP:20260420T044234
CREATED:20220317T153422Z
LAST-MODIFIED:20220317T153641Z
UID:97602-1652524200-1652547600@brightonandhoveac.com
SUMMARY:Sussex County Track and Field Championships (Day 1)
DESCRIPTION:
URL:https://brightonandhoveac.com/event/sussex-county-track-and-field-championships-day-1/
LOCATION:K2\, Crawley\, Pease Pottage Hill\, Crawley\, RH11 9BQ\, United Kingdom
CATEGORIES:Events
ATTACH;FMTTYPE=image/png:https://brightonandhoveac.com/wp-content/uploads/2021/05/sussex_athletics.png
END:VEVENT
END:VCALENDAR