BEGIN:VCALENDAR
VERSION:2.0
PRODID:-//Brighton &amp; Hove Athletic Club - ECPv6.15.20//NONSGML v1.0//EN
CALSCALE:GREGORIAN
METHOD:PUBLISH
X-ORIGINAL-URL:https://brightonandhoveac.com
X-WR-CALDESC:Events for Brighton &amp; Hove Athletic Club
REFRESH-INTERVAL;VALUE=DURATION:PT1H
X-Robots-Tag:noindex
X-PUBLISHED-TTL:PT1H
BEGIN:VTIMEZONE
TZID:Europe/London
BEGIN:DAYLIGHT
TZOFFSETFROM:+0000
TZOFFSETTO:+0100
TZNAME:BST
DTSTART:20230326T010000
END:DAYLIGHT
BEGIN:STANDARD
TZOFFSETFROM:+0100
TZOFFSETTO:+0000
TZNAME:GMT
DTSTART:20231029T010000
END:STANDARD
BEGIN:DAYLIGHT
TZOFFSETFROM:+0000
TZOFFSETTO:+0100
TZNAME:BST
DTSTART:20240331T010000
END:DAYLIGHT
BEGIN:STANDARD
TZOFFSETFROM:+0100
TZOFFSETTO:+0000
TZNAME:GMT
DTSTART:20241027T010000
END:STANDARD
BEGIN:DAYLIGHT
TZOFFSETFROM:+0000
TZOFFSETTO:+0100
TZNAME:BST
DTSTART:20250330T010000
END:DAYLIGHT
BEGIN:STANDARD
TZOFFSETFROM:+0100
TZOFFSETTO:+0000
TZNAME:GMT
DTSTART:20251026T010000
END:STANDARD
END:VTIMEZONE
BEGIN:VEVENT
DTSTART;TZID=Europe/London:20240224T110000
DTEND;TZID=Europe/London:20240224T170000
DTSTAMP:20260421T225525
CREATED:20240118T163000Z
LAST-MODIFIED:20240118T163000Z
UID:99251-1708772400-1708794000@brightonandhoveac.com
SUMMARY:ECCA National Cross Country Champs
DESCRIPTION:Entry via Team Managers
URL:https://brightonandhoveac.com/event/ecca-national-cross-country-champs/
LOCATION:Weston Park\, Shropshire
CATEGORIES:Events
ATTACH;FMTTYPE=image/jpeg:https://brightonandhoveac.com/wp-content/uploads/2021/09/ECCA-logo.jpg
END:VEVENT
BEGIN:VEVENT
DTSTART;TZID=Europe/London:20240225T093000
DTEND;TZID=Europe/London:20240225T230000
DTSTAMP:20260421T225525
CREATED:20240123T200858Z
LAST-MODIFIED:20240123T200858Z
UID:99280-1708853400-1708902000@brightonandhoveac.com
SUMMARY:Brighton Half Marathon and Youth Races
DESCRIPTION:Enter online
URL:https://brightonandhoveac.com/event/brighton-half-marathon-and-youth-races-2/
LOCATION:Madeira Drive\, Brighton\, BN2 1TB
CATEGORIES:Events
ATTACH;FMTTYPE=image/png:https://brightonandhoveac.com/wp-content/uploads/2024/01/Brighton-half.png
END:VEVENT
BEGIN:VEVENT
DTSTART;TZID=Europe/London:20240309T100000
DTEND;TZID=Europe/London:20240310T170000
DTSTAMP:20260421T225525
CREATED:20240118T164647Z
LAST-MODIFIED:20240118T164647Z
UID:99269-1709978400-1710090000@brightonandhoveac.com
SUMMARY:Sussex Indoor Champs
DESCRIPTION:Enter online
URL:https://brightonandhoveac.com/event/sussex-indoor-champs/
LOCATION:David Weir Leisure Centre\, Middleton Rd\,\, Carshalton\, SM5 1SL
CATEGORIES:Events
ATTACH;FMTTYPE=image/png:https://brightonandhoveac.com/wp-content/uploads/2021/05/sussex_athletics.png
END:VEVENT
BEGIN:VEVENT
DTSTART;TZID=Europe/London:20240316T100000
DTEND;TZID=Europe/London:20240316T170000
DTSTAMP:20260421T225525
CREATED:20240118T163743Z
LAST-MODIFIED:20240118T163743Z
UID:99258-1710583200-1710608400@brightonandhoveac.com
SUMMARY:English Schools Cross Country Champs
DESCRIPTION:Entry by Sussex selection
URL:https://brightonandhoveac.com/event/english-schools-cross-country-champs/
LOCATION:Pontefract Racecourse\, WF8 4RA
CATEGORIES:Events
ATTACH;FMTTYPE=image/png:https://brightonandhoveac.com/wp-content/uploads/2022/01/English-schools-logo.png
END:VEVENT
BEGIN:VEVENT
DTSTART;TZID=Europe/London:20240317T113000
DTEND;TZID=Europe/London:20240317T170000
DTSTAMP:20260421T225525
CREATED:20240118T163906Z
LAST-MODIFIED:20240118T163906Z
UID:99261-1710675000-1710694800@brightonandhoveac.com
SUMMARY:Sussex Sportshall
DESCRIPTION:Entry via Team Manager
URL:https://brightonandhoveac.com/event/sussex-sportshall/
LOCATION:Worthing Leisure Centre
CATEGORIES:Events
ATTACH;FMTTYPE=image/png:https://brightonandhoveac.com/wp-content/uploads/2021/05/sussex_athletics.png
END:VEVENT
BEGIN:VEVENT
DTSTART;TZID=Europe/London:20240324T110000
DTEND;TZID=Europe/London:20240324T170000
DTSTAMP:20260421T225525
CREATED:20240118T164245Z
LAST-MODIFIED:20240118T164245Z
UID:99263-1711278000-1711299600@brightonandhoveac.com
SUMMARY:Southern 6 and 12 stage road relays
DESCRIPTION:Entry via Team Managers
URL:https://brightonandhoveac.com/event/southern-6-and-12-stage-road-relays/
LOCATION:Milton Keynes
CATEGORIES:Events
ATTACH;FMTTYPE=image/png:https://brightonandhoveac.com/wp-content/uploads/2020/01/seaa-e1580033863936.png
END:VEVENT
BEGIN:VEVENT
DTSTART;TZID=Europe/London:20240330T110000
DTEND;TZID=Europe/London:20240330T170000
DTSTAMP:20260421T225525
CREATED:20240118T164401Z
LAST-MODIFIED:20240118T164401Z
UID:99266-1711796400-1711818000@brightonandhoveac.com
SUMMARY:Sussex Road Relays
DESCRIPTION:Entry via Team Managers
URL:https://brightonandhoveac.com/event/sussex-road-relays-3/
LOCATION:Preston Park\, London Road\, Brighton\, United Kingdom
CATEGORIES:Events
ATTACH;FMTTYPE=image/png:https://brightonandhoveac.com/wp-content/uploads/2021/05/sussex_athletics.png
END:VEVENT
BEGIN:VEVENT
DTSTART;TZID=Europe/London:20240420T110000
DTEND;TZID=Europe/London:20240420T170000
DTSTAMP:20260421T225525
CREATED:20240227T184200Z
LAST-MODIFIED:20240227T184200Z
UID:99422-1713610800-1713632400@brightonandhoveac.com
SUMMARY:YDL Lower Age Group Match 1
DESCRIPTION:Entry via Team Managers
URL:https://brightonandhoveac.com/event/ydl-lower-age-group-match-1-3/
LOCATION:Herne Hill Harriers\, SW17 3NP
CATEGORIES:Events
ATTACH;FMTTYPE=image/jpeg:https://brightonandhoveac.com/wp-content/uploads/2019/05/YDL.jpg
ORGANIZER;CN="YDL":MAILTO:https://www.ukydl.org.uk/
END:VEVENT
BEGIN:VEVENT
DTSTART;TZID=Europe/London:20240426T180000
DTEND;TZID=Europe/London:20240426T210000
DTSTAMP:20260421T225525
CREATED:20240331T124633Z
LAST-MODIFIED:20240331T124633Z
UID:99502-1714154400-1714165200@brightonandhoveac.com
SUMMARY:Sussex U13 League Match 1
DESCRIPTION:Entry via Team Managers
URL:https://brightonandhoveac.com/event/sussex-u13-league-match-1/
LOCATION:Withdean Stadium\, Tongdean Lane\, Brighton\, BN1 5JD\, United Kingdom
CATEGORIES:Events
ATTACH;FMTTYPE=image/png:https://brightonandhoveac.com/wp-content/uploads/2021/05/sussex_athletics.png
END:VEVENT
BEGIN:VEVENT
DTSTART;TZID=Europe/London:20240428T110000
DTEND;TZID=Europe/London:20240618T170000
DTSTAMP:20260421T225525
CREATED:20240227T184028Z
LAST-MODIFIED:20240227T184028Z
UID:99418-1714302000-1718730000@brightonandhoveac.com
SUMMARY:YDL Upper Age Group Match 1
DESCRIPTION:Entry via Team Manager
URL:https://brightonandhoveac.com/event/ydl-upper-age-group-match-1-2/
LOCATION:Herne Hill Harriers\, SW17 3NP
CATEGORIES:Events
ATTACH;FMTTYPE=image/jpeg:https://brightonandhoveac.com/wp-content/uploads/2022/04/YDL.jpg
ORGANIZER;CN="YDL":MAILTO:https://www.ukydl.org.uk/
END:VEVENT
BEGIN:VEVENT
DTSTART;TZID=Europe/London:20240501T180000
DTEND;TZID=Europe/London:20240501T210000
DTSTAMP:20260421T225525
CREATED:20240331T125111Z
LAST-MODIFIED:20240331T125111Z
UID:99506-1714586400-1714597200@brightonandhoveac.com
SUMMARY:Brighton Phoenix Track Night
DESCRIPTION:Track only event with races from 100m-1500m seeded races
URL:https://brightonandhoveac.com/event/brighton-phoenix-track-night/
LOCATION:Withdean Stadium\, Tongdean Lane\, Brighton\, BN1 5JD\, United Kingdom
CATEGORIES:Events
ATTACH;FMTTYPE=image/png:https://brightonandhoveac.com/wp-content/uploads/2020/01/logo_phoenix-graphic-rounded.png
END:VEVENT
BEGIN:VEVENT
DTSTART;TZID=Europe/London:20240503T180000
DTEND;TZID=Europe/London:20240503T210000
DTSTAMP:20260421T225525
CREATED:20240331T124800Z
LAST-MODIFIED:20240331T124800Z
UID:99504-1714759200-1714770000@brightonandhoveac.com
SUMMARY:Sussex U15 League match 1
DESCRIPTION:Entry via Team Managers
URL:https://brightonandhoveac.com/event/sussex-u15-league-match-1/
LOCATION:Withdean Stadium\, Tongdean Lane\, Brighton\, BN1 5JD\, United Kingdom
CATEGORIES:Events
ATTACH;FMTTYPE=image/png:https://brightonandhoveac.com/wp-content/uploads/2021/05/sussex_athletics.png
END:VEVENT
BEGIN:VEVENT
DTSTART;TZID=Europe/London:20240511T110000
DTEND;TZID=Europe/London:20240511T170000
DTSTAMP:20260421T225525
CREATED:20240331T125344Z
LAST-MODIFIED:20240331T125344Z
UID:99508-1715425200-1715446800@brightonandhoveac.com
SUMMARY:11 and 12th May: Sussex track and field champs
DESCRIPTION:Enter online nearer the time
URL:https://brightonandhoveac.com/event/11-and-12th-may-sussex-track-and-field-champs/
LOCATION:K2\, Crawley\, Pease Pottage Hill\, Crawley\, RH11 9BQ\, United Kingdom
CATEGORIES:Events
ATTACH;FMTTYPE=image/png:https://brightonandhoveac.com/wp-content/uploads/2021/05/sussex_athletics.png
END:VEVENT
BEGIN:VEVENT
DTSTART;TZID=Europe/London:20240518T103000
DTEND;TZID=Europe/London:20240518T170000
DTSTAMP:20260421T225525
CREATED:20240217T115813Z
LAST-MODIFIED:20240420T154358Z
UID:99379-1716028200-1716051600@brightonandhoveac.com
SUMMARY:Southern Athletics League Match 1
DESCRIPTION:for U17 athletes upwards
URL:https://brightonandhoveac.com/event/southern-athletics-league-match-1-3/
LOCATION:Southampton\, Thornhill Rd\,\, Southampton\, SO16 7AY
CATEGORIES:Events
ATTACH;FMTTYPE=image/png:https://brightonandhoveac.com/wp-content/uploads/2019/07/Screenshot-2019-07-26-08.54.33.png
END:VEVENT
BEGIN:VEVENT
DTSTART;TZID=Europe/London:20240519T110000
DTEND;TZID=Europe/London:20240519T170000
DTSTAMP:20260421T225525
CREATED:20240227T184645Z
LAST-MODIFIED:20240227T184645Z
UID:99426-1716116400-1716138000@brightonandhoveac.com
SUMMARY:YDL Lower Age Group Match 2
DESCRIPTION:Entry via Team Managers
URL:https://brightonandhoveac.com/event/ydl-lower-age-group-match-2-3/
LOCATION:Victoria Park\, London\, E9 5EG
CATEGORIES:Events
ATTACH;FMTTYPE=image/jpeg:https://brightonandhoveac.com/wp-content/uploads/2022/04/YDL.jpg
ORGANIZER;CN="YDL":MAILTO:https://www.ukydl.org.uk/
END:VEVENT
BEGIN:VEVENT
DTSTART;TZID=Europe/London:20240520T183000
DTEND;TZID=Europe/London:20240520T210000
DTSTAMP:20260421T225525
CREATED:20240217T114515Z
LAST-MODIFIED:20240217T114515Z
UID:99370-1716229800-1716238800@brightonandhoveac.com
SUMMARY:Sussex Vets League Match 1
DESCRIPTION:For athletes over 35 years \nContact Team Managers Jo Wilding and Shaun Billing for more details (See Team Managers page)
URL:https://brightonandhoveac.com/event/sussex-vets-league-match-1-2/
LOCATION:Lewes AC\, Mountfield Rd\,\, Lewes\, BN7 2XG\, United Kingdom
CATEGORIES:Events
ATTACH;FMTTYPE=image/png:https://brightonandhoveac.com/wp-content/uploads/2021/05/sussex_athletics.png
END:VEVENT
BEGIN:VEVENT
DTSTART;TZID=Europe/London:20240524T170000
DTEND;TZID=Europe/London:20240524T200000
DTSTAMP:20260421T225525
CREATED:20240420T160130Z
LAST-MODIFIED:20240420T160130Z
UID:99595-1716570000-1716580800@brightonandhoveac.com
SUMMARY:Sussex U13 League match 2
DESCRIPTION:Entry via Team Manager
URL:https://brightonandhoveac.com/event/sussex-u13-league-match-2/
LOCATION:Lewes AC\, Mountfield Rd\,\, Lewes\, BN7 2XG\, United Kingdom
CATEGORIES:Events
ATTACH;FMTTYPE=image/png:https://brightonandhoveac.com/wp-content/uploads/2021/05/sussex_athletics.png
END:VEVENT
BEGIN:VEVENT
DTSTART;TZID=Europe/London:20240526T110000
DTEND;TZID=Europe/London:20240526T170000
DTSTAMP:20260421T225525
CREATED:20240227T184349Z
LAST-MODIFIED:20240227T184349Z
UID:99424-1716721200-1716742800@brightonandhoveac.com
SUMMARY:YDL Upper Age Group Match 2
DESCRIPTION:Entry via Team Managers
URL:https://brightonandhoveac.com/event/ydl-upper-age-group-match-2-3/
LOCATION:Withdean Stadium\, Tongdean Lane\, Brighton\, BN1 5JD\, United Kingdom
CATEGORIES:Events
ATTACH;FMTTYPE=image/jpeg:https://brightonandhoveac.com/wp-content/uploads/2022/04/YDL.jpg
ORGANIZER;CN="YDL":MAILTO:https://www.ukydl.org.uk/
END:VEVENT
BEGIN:VEVENT
DTSTART;TZID=Europe/London:20240531T170000
DTEND;TZID=Europe/London:20240531T200000
DTSTAMP:20260421T225525
CREATED:20240420T160258Z
LAST-MODIFIED:20240420T160258Z
UID:99597-1717174800-1717185600@brightonandhoveac.com
SUMMARY:Sussex U15 League match 2
DESCRIPTION:Entry via Team Manager
URL:https://brightonandhoveac.com/event/sussex-u15-league-match-2/
LOCATION:Withdean Stadium\, Tongdean Lane\, Brighton\, BN1 5JD\, United Kingdom
CATEGORIES:Events
ATTACH;FMTTYPE=image/png:https://brightonandhoveac.com/wp-content/uploads/2021/05/sussex_athletics.png
END:VEVENT
BEGIN:VEVENT
DTSTART;TZID=Europe/London:20240608T110000
DTEND;TZID=Europe/London:20240608T170000
DTSTAMP:20260421T225525
CREATED:20240420T160425Z
LAST-MODIFIED:20240420T160549Z
UID:99599-1717844400-1717866000@brightonandhoveac.com
SUMMARY:Sussex Schools Championships
DESCRIPTION:Entry via child’s school
URL:https://brightonandhoveac.com/event/sussex-schools-championships/
LOCATION:K2\, Crawley\, Pease Pottage Hill\, Crawley\, RH11 9BQ\, United Kingdom
CATEGORIES:Events
END:VEVENT
BEGIN:VEVENT
DTSTART;TZID=Europe/London:20240612T183000
DTEND;TZID=Europe/London:20240612T213000
DTSTAMP:20260421T225525
CREATED:20240217T114703Z
LAST-MODIFIED:20240217T114703Z
UID:99372-1718217000-1718227800@brightonandhoveac.com
SUMMARY:Sussex Veterans League Match 2
DESCRIPTION:For athletes over 35 years old. Entry via Team Manager
URL:https://brightonandhoveac.com/event/sussex-veterans-league-match-2/
LOCATION:Eastbourne AC\, Eastbourne Sports Park\, Cross Levels Way\, Eastbourne\, BN21 2UF\, United Kingdom
CATEGORIES:Events
ATTACH;FMTTYPE=image/png:https://brightonandhoveac.com/wp-content/uploads/2021/05/sussex_athletics.png
END:VEVENT
BEGIN:VEVENT
DTSTART;TZID=Europe/London:20240615T080000
DTEND;TZID=Europe/London:20240615T170000
DTSTAMP:20260421T225525
CREATED:20240217T115957Z
LAST-MODIFIED:20240217T115957Z
UID:99382-1718438400-1718470800@brightonandhoveac.com
SUMMARY:Southern Athletics League Match 2
DESCRIPTION:For athletes U17 upwards
URL:https://brightonandhoveac.com/event/southern-athletics-league-match-2-3/
LOCATION:Chelmsford AC\, Salerno Way\, Chelmsford\, Essex\, CM1 2EH
CATEGORIES:Events
ATTACH;FMTTYPE=image/png:https://brightonandhoveac.com/wp-content/uploads/2019/07/Screenshot-2019-07-26-08.54.33.png
END:VEVENT
BEGIN:VEVENT
DTSTART;TZID=Europe/London:20240616T110000
DTEND;TZID=Europe/London:20240616T170000
DTSTAMP:20260421T225525
CREATED:20240420T155433Z
LAST-MODIFIED:20240420T155534Z
UID:99588-1718535600-1718557200@brightonandhoveac.com
SUMMARY:Youth Development League lower age group match 3
DESCRIPTION:Entry via Team Manager
URL:https://brightonandhoveac.com/event/youth-development-league-lower-age-group-match-3/
LOCATION:Basildon\, Gloucester Park\, Cranes Farm Road\,\, Basildon\, SS14 3DE
CATEGORIES:Events
ATTACH;FMTTYPE=image/jpeg:https://brightonandhoveac.com/wp-content/uploads/2022/04/YDL.jpg
ORGANIZER;CN="YDL":MAILTO:https://www.ukydl.org.uk/
END:VEVENT
BEGIN:VEVENT
DTSTART;TZID=Europe/London:20240621T170000
DTEND;TZID=Europe/London:20240621T200000
DTSTAMP:20260421T225525
CREATED:20240420T160841Z
LAST-MODIFIED:20240420T160841Z
UID:99603-1718989200-1719000000@brightonandhoveac.com
SUMMARY:Sussex U15 League match 3
DESCRIPTION:Entry via Team Manager
URL:https://brightonandhoveac.com/event/sussex-u15-league-match-3/
LOCATION:Withdean Stadium\, Tongdean Lane\, Brighton\, BN1 5JD\, United Kingdom
CATEGORIES:Events
END:VEVENT
BEGIN:VEVENT
DTSTART;TZID=Europe/London:20240628T170000
DTEND;TZID=Europe/London:20240628T200000
DTSTAMP:20260421T225525
CREATED:20240420T160730Z
LAST-MODIFIED:20240420T160730Z
UID:99601-1719594000-1719604800@brightonandhoveac.com
SUMMARY:Sussex U13 League match 3
DESCRIPTION:Entry via Team Manager
URL:https://brightonandhoveac.com/event/sussex-u13-league-match-3/
LOCATION:Eastbourne AC\, Eastbourne Sports Park\, Cross Levels Way\, Eastbourne\, BN21 2UF\, United Kingdom
CATEGORIES:Events
ATTACH;FMTTYPE=image/png:https://brightonandhoveac.com/wp-content/uploads/2021/05/sussex_athletics.png
END:VEVENT
BEGIN:VEVENT
DTSTART;TZID=Europe/London:20240630T110000
DTEND;TZID=Europe/London:20240630T170000
DTSTAMP:20260421T225525
CREATED:20240420T155102Z
LAST-MODIFIED:20240420T155210Z
UID:99584-1719745200-1719766800@brightonandhoveac.com
SUMMARY:Youth Development League upper age group Match 3
DESCRIPTION:Entry via Team Manager
URL:https://brightonandhoveac.com/event/youth-development-league-match-3/
LOCATION:K2\, Crawley\, Pease Pottage Hill\, Crawley\, RH11 9BQ\, United Kingdom
CATEGORIES:Events
ATTACH;FMTTYPE=image/jpeg:https://brightonandhoveac.com/wp-content/uploads/2022/04/YDL.jpg
ORGANIZER;CN="YDL":MAILTO:https://www.ukydl.org.uk/
END:VEVENT
BEGIN:VEVENT
DTSTART;TZID=Europe/London:20240701T180000
DTEND;TZID=Europe/London:20240701T210000
DTSTAMP:20260421T225525
CREATED:20240626T081348Z
LAST-MODIFIED:20240626T081348Z
UID:99804-1719856800-1719867600@brightonandhoveac.com
SUMMARY:U13 Sussex League Match 3
DESCRIPTION:Entry via Team Manager
URL:https://brightonandhoveac.com/event/u13-sussex-league-match-3-2/
LOCATION:Eastbourne AC\, Eastbourne Sports Park\, Cross Levels Way\, Eastbourne\, BN21 2UF\, United Kingdom
CATEGORIES:Events
ATTACH;FMTTYPE=image/png:https://brightonandhoveac.com/wp-content/uploads/2021/05/sussex_athletics.png
END:VEVENT
BEGIN:VEVENT
DTSTART;TZID=Europe/London:20240706T110000
DTEND;TZID=Europe/London:20240706T170000
DTSTAMP:20260421T225525
CREATED:20240626T081752Z
LAST-MODIFIED:20240626T081752Z
UID:99807-1720263600-1720285200@brightonandhoveac.com
SUMMARY:Sussex U13 and U11 Quadkids Champs
DESCRIPTION:Enter online https://www.sussexathletics.net/take-part/events-information/
URL:https://brightonandhoveac.com/event/sussex-u13-and-u11-quadkids-champs/
LOCATION:K2\, Crawley\, Pease Pottage Hill\, Crawley\, RH11 9BQ\, United Kingdom
CATEGORIES:Events
ATTACH;FMTTYPE=image/png:https://brightonandhoveac.com/wp-content/uploads/2021/05/sussex_athletics.png
END:VEVENT
BEGIN:VEVENT
DTSTART;TZID=Europe/London:20240712T100000
DTEND;TZID=Europe/London:20240713T170000
DTSTAMP:20260421T225525
CREATED:20240626T082248Z
LAST-MODIFIED:20240626T082248Z
UID:99809-1720778400-1720890000@brightonandhoveac.com
SUMMARY:English Schools Championships
DESCRIPTION:Athletes are selected by the County to compete
URL:https://brightonandhoveac.com/event/english-schools-championships/
LOCATION:Alexander Stadium\, Birmingham\, Walsall Rd\, Perry Bar\, Perry\, Barr Birmingham\, B42 2LR\, United Kingdom
CATEGORIES:Events
ATTACH;FMTTYPE=image/png:https://brightonandhoveac.com/wp-content/uploads/2019/05/esaabadge-e1561540270739.png
END:VEVENT
BEGIN:VEVENT
DTSTART;TZID=Europe/London:20240714T110000
DTEND;TZID=Europe/London:20240714T170000
DTSTAMP:20260421T225525
CREATED:20240227T183414Z
LAST-MODIFIED:20240227T183414Z
UID:99413-1720954800-1720976400@brightonandhoveac.com
SUMMARY:Southern Athletics League Match 3
DESCRIPTION:Entry via Team Managers
URL:https://brightonandhoveac.com/event/southern-athletics-league-match-3-4/
LOCATION:Wormwood Scrub\, London (tbc)
CATEGORIES:Events
ATTACH;FMTTYPE=image/png:https://brightonandhoveac.com/wp-content/uploads/2019/07/Screenshot-2019-07-26-08.54.33.png
END:VEVENT
END:VCALENDAR