BEGIN:VCALENDAR
VERSION:2.0
PRODID:-//Brighton &amp; Hove Athletic Club - ECPv6.15.20//NONSGML v1.0//EN
CALSCALE:GREGORIAN
METHOD:PUBLISH
X-WR-CALNAME:Brighton &amp; Hove Athletic Club
X-ORIGINAL-URL:https://brightonandhoveac.com
X-WR-CALDESC:Events for Brighton &amp; Hove Athletic Club
REFRESH-INTERVAL;VALUE=DURATION:PT1H
X-Robots-Tag:noindex
X-PUBLISHED-TTL:PT1H
BEGIN:VTIMEZONE
TZID:Europe/London
BEGIN:DAYLIGHT
TZOFFSETFROM:+0000
TZOFFSETTO:+0100
TZNAME:BST
DTSTART:20230326T010000
END:DAYLIGHT
BEGIN:STANDARD
TZOFFSETFROM:+0100
TZOFFSETTO:+0000
TZNAME:GMT
DTSTART:20231029T010000
END:STANDARD
BEGIN:DAYLIGHT
TZOFFSETFROM:+0000
TZOFFSETTO:+0100
TZNAME:BST
DTSTART:20240331T010000
END:DAYLIGHT
BEGIN:STANDARD
TZOFFSETFROM:+0100
TZOFFSETTO:+0000
TZNAME:GMT
DTSTART:20241027T010000
END:STANDARD
BEGIN:DAYLIGHT
TZOFFSETFROM:+0000
TZOFFSETTO:+0100
TZNAME:BST
DTSTART:20250330T010000
END:DAYLIGHT
BEGIN:STANDARD
TZOFFSETFROM:+0100
TZOFFSETTO:+0000
TZNAME:GMT
DTSTART:20251026T010000
END:STANDARD
BEGIN:DAYLIGHT
TZOFFSETFROM:+0000
TZOFFSETTO:+0100
TZNAME:BST
DTSTART:20260329T010000
END:DAYLIGHT
BEGIN:STANDARD
TZOFFSETFROM:+0100
TZOFFSETTO:+0000
TZNAME:GMT
DTSTART:20261025T010000
END:STANDARD
END:VTIMEZONE
BEGIN:VEVENT
DTSTART;TZID=Europe/London:20241109T110000
DTEND;TZID=Europe/London:20241109T170000
DTSTAMP:20260420T011626
CREATED:20240826T091349Z
LAST-MODIFIED:20240826T091349Z
UID:99949-1731150000-1731171600@brightonandhoveac.com
SUMMARY:Sussex Cross Country League- Match 2
DESCRIPTION:Enter online before the event
URL:https://brightonandhoveac.com/event/sussex-cross-country-league-match-2/
LOCATION:Glyndebourne\, BN8 5UU
CATEGORIES:Events
ATTACH;FMTTYPE=image/png:https://brightonandhoveac.com/wp-content/uploads/2021/05/sussex_athletics.png
END:VEVENT
BEGIN:VEVENT
DTSTART;TZID=Europe/London:20241110T110000
DTEND;TZID=Europe/London:20241110T170000
DTSTAMP:20260420T011626
CREATED:20240826T171127Z
LAST-MODIFIED:20240826T171127Z
UID:99958-1731236400-1731258000@brightonandhoveac.com
SUMMARY:Sussex Sportshall- Match 1
DESCRIPTION:For athletes U15 and below. \nEntry via Team Managers
URL:https://brightonandhoveac.com/event/sussex-sportshall-match-1/
LOCATION:Worthing Leisure Centre
CATEGORIES:Events
ATTACH;FMTTYPE=image/png:https://brightonandhoveac.com/wp-content/uploads/2021/05/sussex_athletics.png
END:VEVENT
BEGIN:VEVENT
DTSTART;TZID=Europe/London:20241117T090000
DTEND;TZID=Europe/London:20241222T230000
DTSTAMP:20260420T011626
CREATED:20240826T171659Z
LAST-MODIFIED:20240826T171659Z
UID:99960-1731834000-1734908400@brightonandhoveac.com
SUMMARY:Brighton 10k and Junior Mile
DESCRIPTION:Brighton and Hove ACs annual road race. \nVolunteers also needed https://www.brighton10k.co.uk/volunteer/
URL:https://brightonandhoveac.com/event/brighton-10k-and-junior-mile/
LOCATION:Hove Lawns\, Brighton and Hove Seafront\, BN3 2PE
CATEGORIES:Events
ATTACH;FMTTYPE=image/png:https://brightonandhoveac.com/wp-content/uploads/2017/01/Brighton-Athletics-Logo.png
END:VEVENT
BEGIN:VEVENT
DTSTART;TZID=Europe/London:20241130T110000
DTEND;TZID=Europe/London:20241130T170000
DTSTAMP:20260420T011626
CREATED:20240826T091533Z
LAST-MODIFIED:20240826T091533Z
UID:99951-1732964400-1732986000@brightonandhoveac.com
SUMMARY:Sussex Cross Country League- Match 3
DESCRIPTION:Enter online before the event
URL:https://brightonandhoveac.com/event/sussex-cross-country-league-match-3/
LOCATION:Ardingly Showground\, South of England Showground\, Selsfield Rd\, Haywards Heath\, RH17 6TH
CATEGORIES:Events
ATTACH;FMTTYPE=image/png:https://brightonandhoveac.com/wp-content/uploads/2021/05/sussex_athletics.png
END:VEVENT
BEGIN:VEVENT
DTSTART;TZID=Europe/London:20250104T110000
DTEND;TZID=Europe/London:20250104T170000
DTSTAMP:20260420T011626
CREATED:20241009T090810Z
LAST-MODIFIED:20241009T090810Z
UID:100085-1735988400-1736010000@brightonandhoveac.com
SUMMARY:Sussex Cross Country Champs
DESCRIPTION:Entry on website nearer the date
URL:https://brightonandhoveac.com/event/sussex-cross-country-champs/
LOCATION:Bexhill Leisure Centre\, TN39 4HS
CATEGORIES:Events
ATTACH;FMTTYPE=image/png:https://brightonandhoveac.com/wp-content/uploads/2021/05/sussex_athletics.png
END:VEVENT
BEGIN:VEVENT
DTSTART;TZID=Europe/London:20250114T130000
DTEND;TZID=Europe/London:20250114T170000
DTSTAMP:20260420T011626
CREATED:20241009T091141Z
LAST-MODIFIED:20241009T091141Z
UID:100087-1736859600-1736874000@brightonandhoveac.com
SUMMARY:Sussex Schools Cross Country Champs
DESCRIPTION:Entry via schools
URL:https://brightonandhoveac.com/event/sussex-schools-cross-country-champs-2/
LOCATION:Waterhall\, Mill Lane\, Brighton\, BN1 8YR\, United Kingdom
CATEGORIES:Events
ATTACH;FMTTYPE=image/png:https://brightonandhoveac.com/wp-content/uploads/2021/05/sussex_athletics.png
END:VEVENT
BEGIN:VEVENT
DTSTART;TZID=Europe/London:20250118T130000
DTEND;TZID=Europe/London:20250118T170000
DTSTAMP:20260420T011626
CREATED:20241009T091324Z
LAST-MODIFIED:20241009T091324Z
UID:100089-1737205200-1737219600@brightonandhoveac.com
SUMMARY:Sussex Master's Cross Country Champs
DESCRIPTION:Entry via Team Manager
URL:https://brightonandhoveac.com/event/sussex-masters-cross-country-champs/
LOCATION:Combs Farm\, Lancing
CATEGORIES:Events
ATTACH;FMTTYPE=image/png:https://brightonandhoveac.com/wp-content/uploads/2021/05/sussex_athletics.png
END:VEVENT
BEGIN:VEVENT
DTSTART;TZID=Europe/London:20250125T100000
DTEND;TZID=Europe/London:20250125T170000
DTSTAMP:20260420T011626
CREATED:20241009T091550Z
LAST-MODIFIED:20241009T091550Z
UID:100091-1737799200-1737824400@brightonandhoveac.com
SUMMARY:South of England Cross Country Champs
DESCRIPTION:
URL:https://brightonandhoveac.com/event/south-of-england-cross-country-champs/
LOCATION:Beckenham Place Park\, Beckenham Hill Road\,\, Beckenham\, BR3 1UH\, United Kingdom
CATEGORIES:Events
ATTACH;FMTTYPE=image/png:https://brightonandhoveac.com/wp-content/uploads/2020/01/seaa-e1580033863936.png
END:VEVENT
BEGIN:VEVENT
DTSTART;TZID=Europe/London:20250208T110000
DTEND;TZID=Europe/London:20250209T170000
DTSTAMP:20260420T011626
CREATED:20240826T091734Z
LAST-MODIFIED:20250128T081922Z
UID:99953-1739012400-1739120400@brightonandhoveac.com
SUMMARY:Sussex Cross Country League- Match 4 NEW DATE!
DESCRIPTION:Enter online before the event
URL:https://brightonandhoveac.com/event/sussex-cross-country-league-match-4/
LOCATION:Stanmer Park\, Brighton\, BN1 9PY
CATEGORIES:Events
ATTACH;FMTTYPE=image/png:https://brightonandhoveac.com/wp-content/uploads/2021/05/sussex_athletics.png
END:VEVENT
BEGIN:VEVENT
DTSTART;TZID=Europe/London:20250216T110000
DTEND;TZID=Europe/London:20250216T170000
DTSTAMP:20260420T011626
CREATED:20250109T091854Z
LAST-MODIFIED:20250109T091854Z
UID:100446-1739703600-1739725200@brightonandhoveac.com
SUMMARY:South East Regional Sportshall final
DESCRIPTION:
URL:https://brightonandhoveac.com/event/south-east-regional-sportshall-final/
CATEGORIES:Events
ATTACH;FMTTYPE=image/png:https://brightonandhoveac.com/wp-content/uploads/2021/05/sussex_athletics.png
END:VEVENT
BEGIN:VEVENT
DTSTART;TZID=Europe/London:20250222T110000
DTEND;TZID=Europe/London:20250222T170000
DTSTAMP:20260420T011626
CREATED:20250109T092055Z
LAST-MODIFIED:20250109T092055Z
UID:100449-1740222000-1740243600@brightonandhoveac.com
SUMMARY:ECCA National Cross Country Champs
DESCRIPTION:
URL:https://brightonandhoveac.com/event/ecca-national-cross-country-champs-2/
LOCATION:Parliament Hill\, Hampstead Heath\, London
CATEGORIES:Events
ATTACH;FMTTYPE=image/jpeg:https://brightonandhoveac.com/wp-content/uploads/2021/09/ECCA-logo.jpg
END:VEVENT
BEGIN:VEVENT
DTSTART;TZID=Europe/London:20250301T100000
DTEND;TZID=Europe/London:20250302T170000
DTSTAMP:20260420T011626
CREATED:20250109T092423Z
LAST-MODIFIED:20250109T092423Z
UID:100451-1740823200-1740934800@brightonandhoveac.com
SUMMARY:Sussex AA Indoor Track and Field Champs
DESCRIPTION:
URL:https://brightonandhoveac.com/event/sussex-aa-indoor-track-and-field-champs/
LOCATION:tbc
CATEGORIES:Events
ATTACH;FMTTYPE=image/png:https://brightonandhoveac.com/wp-content/uploads/2021/05/sussex_athletics.png
END:VEVENT
BEGIN:VEVENT
DTSTART;TZID=Europe/London:20250302T090000
DTEND;TZID=Europe/London:20250302T170000
DTSTAMP:20260420T011626
CREATED:20250109T092935Z
LAST-MODIFIED:20250109T092935Z
UID:100454-1740906000-1740934800@brightonandhoveac.com
SUMMARY:Brighton Half Marathon and Youth Races
DESCRIPTION:Youth Races start at 9am \nHalf Marathon at 9.30am \nWheelchair race at 9.27am
URL:https://brightonandhoveac.com/event/brighton-half-marathon-and-youth-races-3/
LOCATION:Hove Lawns\, Brighton and Hove Seafront\, BN3 2PE
ATTACH;FMTTYPE=image/png:https://brightonandhoveac.com/wp-content/uploads/2025/01/Brighton-half-2025.png
END:VEVENT
BEGIN:VEVENT
DTSTART;TZID=Europe/London:20250315T100000
DTEND;TZID=Europe/London:20250315T170000
DTSTAMP:20260420T011626
CREATED:20250109T093202Z
LAST-MODIFIED:20250109T093202Z
UID:100457-1742032800-1742058000@brightonandhoveac.com
SUMMARY:English Schools Cross Country Champs
DESCRIPTION:Entry via school selection
URL:https://brightonandhoveac.com/event/english-schools-cross-country-champs-2/
LOCATION:Ardingly Showground\, South of England Showground\, Selsfield Rd\, Haywards Heath\, RH17 6TH
CATEGORIES:Events
ATTACH;FMTTYPE=image/png:https://brightonandhoveac.com/wp-content/uploads/2022/01/English-schools-logo.png
END:VEVENT
BEGIN:VEVENT
DTSTART;TZID=Europe/London:20250330T110000
DTEND;TZID=Europe/London:20250330T170000
DTSTAMP:20260420T011627
CREATED:20250109T093431Z
LAST-MODIFIED:20250109T093431Z
UID:100459-1743332400-1743354000@brightonandhoveac.com
SUMMARY:SEAA 12 and 6 stage road relay champs
DESCRIPTION:Entry via Team Managers
URL:https://brightonandhoveac.com/event/seaa-12-and-6-stage-road-relay-champs/
LOCATION:Milton Keynes
CATEGORIES:Events
ATTACH;FMTTYPE=image/png:https://brightonandhoveac.com/wp-content/uploads/2020/01/seaa-e1580033863936.png
END:VEVENT
BEGIN:VEVENT
DTSTART;TZID=Europe/London:20250406T080000
DTEND;TZID=Europe/London:20250407T170000
DTSTAMP:20260420T011627
CREATED:20250116T111945Z
LAST-MODIFIED:20250116T111945Z
UID:100466-1743926400-1744045200@brightonandhoveac.com
SUMMARY:Brighton Marathon weekend
DESCRIPTION:Includes: \nBrighton Miles\, Saturday 6th April (Preston Park) – Free family mile event https://www.brightonmarathonweekend.co.uk/events/brighton-miles \nBrighton Marathon 10k\, Sunday 7th April- https://www.brightonmarathonweekend.co.uk/events/brighton-and-hove-10k \nBrighton Marathon\, Sunday 7th April (Sold out)
URL:https://brightonandhoveac.com/event/brighton-marathon-weekend/
LOCATION:Preston Park\, London Road\, Brighton\, United Kingdom
CATEGORIES:Events
ATTACH;FMTTYPE=image/png:https://brightonandhoveac.com/wp-content/uploads/2025/01/Brighton-Marathon.png
END:VEVENT
BEGIN:VEVENT
DTSTART;TZID=Europe/London:20250419T110000
DTEND;TZID=Europe/London:20250419T160000
DTSTAMP:20260420T011627
CREATED:20250211T160407Z
LAST-MODIFIED:20250211T160407Z
UID:100513-1745060400-1745078400@brightonandhoveac.com
SUMMARY:Sussex Road Relays
DESCRIPTION:Entry via Team Managers
URL:https://brightonandhoveac.com/event/sussex-road-relays-4/
LOCATION:Preston Park\, London Road\, Brighton\, United Kingdom
CATEGORIES:Events
ATTACH;FMTTYPE=image/png:https://brightonandhoveac.com/wp-content/uploads/2021/05/sussex_athletics.png
END:VEVENT
BEGIN:VEVENT
DTSTART;TZID=Europe/London:20250517T110000
DTEND;TZID=Europe/London:20250517T170000
DTSTAMP:20260420T011627
CREATED:20250211T161259Z
LAST-MODIFIED:20250211T161259Z
UID:100515-1747479600-1747501200@brightonandhoveac.com
SUMMARY:Southern Athletics League (Match 1)
DESCRIPTION:U17 athletes upwards. Entry via Team Manager
URL:https://brightonandhoveac.com/event/southern-athletics-league-match-1-4/
LOCATION:Finsbury Park\, London\, N4 2DE
CATEGORIES:Events
ATTACH;FMTTYPE=image/png:https://brightonandhoveac.com/wp-content/uploads/2019/07/Screenshot-2019-07-26-08.54.33.png
END:VEVENT
END:VCALENDAR