BEGIN:VCALENDAR
VERSION:2.0
PRODID:-//Brighton &amp; Hove Athletic Club - ECPv6.15.20//NONSGML v1.0//EN
CALSCALE:GREGORIAN
METHOD:PUBLISH
X-WR-CALNAME:Brighton &amp; Hove Athletic Club
X-ORIGINAL-URL:https://brightonandhoveac.com
X-WR-CALDESC:Events for Brighton &amp; Hove Athletic Club
REFRESH-INTERVAL;VALUE=DURATION:PT1H
X-Robots-Tag:noindex
X-PUBLISHED-TTL:PT1H
BEGIN:VTIMEZONE
TZID:Europe/London
BEGIN:DAYLIGHT
TZOFFSETFROM:+0000
TZOFFSETTO:+0100
TZNAME:BST
DTSTART:20230326T010000
END:DAYLIGHT
BEGIN:STANDARD
TZOFFSETFROM:+0100
TZOFFSETTO:+0000
TZNAME:GMT
DTSTART:20231029T010000
END:STANDARD
BEGIN:DAYLIGHT
TZOFFSETFROM:+0000
TZOFFSETTO:+0100
TZNAME:BST
DTSTART:20240331T010000
END:DAYLIGHT
BEGIN:STANDARD
TZOFFSETFROM:+0100
TZOFFSETTO:+0000
TZNAME:GMT
DTSTART:20241027T010000
END:STANDARD
BEGIN:DAYLIGHT
TZOFFSETFROM:+0000
TZOFFSETTO:+0100
TZNAME:BST
DTSTART:20250330T010000
END:DAYLIGHT
BEGIN:STANDARD
TZOFFSETFROM:+0100
TZOFFSETTO:+0000
TZNAME:GMT
DTSTART:20251026T010000
END:STANDARD
END:VTIMEZONE
BEGIN:VEVENT
DTSTART;TZID=Europe/London:20240426T180000
DTEND;TZID=Europe/London:20240426T210000
DTSTAMP:20260421T125729
CREATED:20240331T124633Z
LAST-MODIFIED:20240331T124633Z
UID:99502-1714154400-1714165200@brightonandhoveac.com
SUMMARY:Sussex U13 League Match 1
DESCRIPTION:Entry via Team Managers
URL:https://brightonandhoveac.com/event/sussex-u13-league-match-1/
LOCATION:Withdean Stadium\, Tongdean Lane\, Brighton\, BN1 5JD\, United Kingdom
CATEGORIES:Events
ATTACH;FMTTYPE=image/png:https://brightonandhoveac.com/wp-content/uploads/2021/05/sussex_athletics.png
END:VEVENT
END:VCALENDAR