BEGIN:VCALENDAR
VERSION:2.0
PRODID:-//Brighton &amp; Hove Athletic Club - ECPv6.15.20//NONSGML v1.0//EN
CALSCALE:GREGORIAN
METHOD:PUBLISH
X-ORIGINAL-URL:https://brightonandhoveac.com
X-WR-CALDESC:Events for Brighton &amp; Hove Athletic Club
REFRESH-INTERVAL;VALUE=DURATION:PT1H
X-Robots-Tag:noindex
X-PUBLISHED-TTL:PT1H
BEGIN:VTIMEZONE
TZID:Europe/London
BEGIN:DAYLIGHT
TZOFFSETFROM:+0000
TZOFFSETTO:+0100
TZNAME:BST
DTSTART:20220327T010000
END:DAYLIGHT
BEGIN:STANDARD
TZOFFSETFROM:+0100
TZOFFSETTO:+0000
TZNAME:GMT
DTSTART:20221030T010000
END:STANDARD
BEGIN:DAYLIGHT
TZOFFSETFROM:+0000
TZOFFSETTO:+0100
TZNAME:BST
DTSTART:20230326T010000
END:DAYLIGHT
BEGIN:STANDARD
TZOFFSETFROM:+0100
TZOFFSETTO:+0000
TZNAME:GMT
DTSTART:20231029T010000
END:STANDARD
BEGIN:DAYLIGHT
TZOFFSETFROM:+0000
TZOFFSETTO:+0100
TZNAME:BST
DTSTART:20240331T010000
END:DAYLIGHT
BEGIN:STANDARD
TZOFFSETFROM:+0100
TZOFFSETTO:+0000
TZNAME:GMT
DTSTART:20241027T010000
END:STANDARD
END:VTIMEZONE
BEGIN:VEVENT
DTSTART;TZID=Europe/London:20230708T110000
DTEND;TZID=Europe/London:20230708T170000
DTSTAMP:20260422T042558
CREATED:20230308T164344Z
LAST-MODIFIED:20230308T164344Z
UID:98429-1688814000-1688835600@brightonandhoveac.com
SUMMARY:YDL Lower Age Group (Match 3)
DESCRIPTION:U13/U15 Entry via Team Manager
URL:https://brightonandhoveac.com/event/ydl-lower-age-group-match-3-2/
LOCATION:K2\, Crawley\, Pease Pottage Hill\, Crawley\, RH11 9BQ\, United Kingdom
CATEGORIES:Events
ATTACH;FMTTYPE=image/jpeg:https://brightonandhoveac.com/wp-content/uploads/2022/04/YDL.jpg
END:VEVENT
END:VCALENDAR