BEGIN:VCALENDAR
VERSION:2.0
PRODID:-//Brighton &amp; Hove Athletic Club - ECPv6.15.20//NONSGML v1.0//EN
CALSCALE:GREGORIAN
METHOD:PUBLISH
X-ORIGINAL-URL:https://brightonandhoveac.com
X-WR-CALDESC:Events for Brighton &amp; Hove Athletic Club
REFRESH-INTERVAL;VALUE=DURATION:PT1H
X-Robots-Tag:noindex
X-PUBLISHED-TTL:PT1H
BEGIN:VTIMEZONE
TZID:Europe/London
BEGIN:DAYLIGHT
TZOFFSETFROM:+0000
TZOFFSETTO:+0100
TZNAME:BST
DTSTART:20210328T010000
END:DAYLIGHT
BEGIN:STANDARD
TZOFFSETFROM:+0100
TZOFFSETTO:+0000
TZNAME:GMT
DTSTART:20211031T010000
END:STANDARD
BEGIN:DAYLIGHT
TZOFFSETFROM:+0000
TZOFFSETTO:+0100
TZNAME:BST
DTSTART:20220327T010000
END:DAYLIGHT
BEGIN:STANDARD
TZOFFSETFROM:+0100
TZOFFSETTO:+0000
TZNAME:GMT
DTSTART:20221030T010000
END:STANDARD
BEGIN:DAYLIGHT
TZOFFSETFROM:+0000
TZOFFSETTO:+0100
TZNAME:BST
DTSTART:20230326T010000
END:DAYLIGHT
BEGIN:STANDARD
TZOFFSETFROM:+0100
TZOFFSETTO:+0000
TZNAME:GMT
DTSTART:20231029T010000
END:STANDARD
END:VTIMEZONE
BEGIN:VEVENT
DTSTART;TZID=Europe/London:20221210T100000
DTEND;TZID=Europe/London:20221210T170000
DTSTAMP:20260422T161407
CREATED:20220927T192057Z
LAST-MODIFIED:20220927T192057Z
UID:98008-1670666400-1670691600@brightonandhoveac.com
SUMMARY:South Of England Inter-Counties Cross Country Champs
DESCRIPTION:Entry via selection by Sussex Team Managers
URL:https://brightonandhoveac.com/event/south-of-england-inter-counties-cross-country-champs/
LOCATION:Horspath\, Oxford
CATEGORIES:Events
ATTACH;FMTTYPE=image/png:https://brightonandhoveac.com/wp-content/uploads/2020/01/seaa-e1580033863936.png
END:VEVENT
BEGIN:VEVENT
DTSTART;TZID=Europe/London:20221210T120000
DTEND;TZID=Europe/London:20221210T170000
DTSTAMP:20260422T161407
CREATED:20220927T192232Z
LAST-MODIFIED:20220927T192553Z
UID:98010-1670673600-1670691600@brightonandhoveac.com
SUMMARY:Cross Country Masters Championships
DESCRIPTION:Entry via Team Manager
URL:https://brightonandhoveac.com/event/cross-country-masters-championships/
LOCATION:Horspath\, Oxford
CATEGORIES:Events
ATTACH;FMTTYPE=image/png:https://brightonandhoveac.com/wp-content/uploads/2019/06/logo-claim.png
END:VEVENT
END:VCALENDAR