BEGIN:VCALENDAR
VERSION:2.0
PRODID:-//Brighton &amp; Hove Athletic Club - ECPv6.15.20//NONSGML v1.0//EN
CALSCALE:GREGORIAN
METHOD:PUBLISH
X-ORIGINAL-URL:https://brightonandhoveac.com
X-WR-CALDESC:Events for Brighton &amp; Hove Athletic Club
REFRESH-INTERVAL;VALUE=DURATION:PT1H
X-Robots-Tag:noindex
X-PUBLISHED-TTL:PT1H
BEGIN:VTIMEZONE
TZID:Europe/London
BEGIN:DAYLIGHT
TZOFFSETFROM:+0000
TZOFFSETTO:+0100
TZNAME:BST
DTSTART:20230326T010000
END:DAYLIGHT
BEGIN:STANDARD
TZOFFSETFROM:+0100
TZOFFSETTO:+0000
TZNAME:GMT
DTSTART:20231029T010000
END:STANDARD
BEGIN:DAYLIGHT
TZOFFSETFROM:+0000
TZOFFSETTO:+0100
TZNAME:BST
DTSTART:20240331T010000
END:DAYLIGHT
BEGIN:STANDARD
TZOFFSETFROM:+0100
TZOFFSETTO:+0000
TZNAME:GMT
DTSTART:20241027T010000
END:STANDARD
BEGIN:DAYLIGHT
TZOFFSETFROM:+0000
TZOFFSETTO:+0100
TZNAME:BST
DTSTART:20250330T010000
END:DAYLIGHT
BEGIN:STANDARD
TZOFFSETFROM:+0100
TZOFFSETTO:+0000
TZNAME:GMT
DTSTART:20251026T010000
END:STANDARD
END:VTIMEZONE
BEGIN:VEVENT
DTSTART;TZID=Europe/London:20240106T110000
DTEND;TZID=Europe/London:20240106T170000
DTSTAMP:20260421T125520
CREATED:20231013T122038Z
LAST-MODIFIED:20231013T122038Z
UID:99003-1704538800-1704560400@brightonandhoveac.com
SUMMARY:Sussex Cross Country Championships
DESCRIPTION:Entry via Team Managers (Juniors and Seniors)
URL:https://brightonandhoveac.com/event/sussex-cross-country-championships-2/
LOCATION:Bexhill Leisure Centre\, TN39 4HS
CATEGORIES:Events
ATTACH;FMTTYPE=image/png:https://brightonandhoveac.com/wp-content/uploads/2021/05/sussex_athletics.png
END:VEVENT
BEGIN:VEVENT
DTSTART;TZID=Europe/London:20240116T120000
DTEND;TZID=Europe/London:20240116T170000
DTSTAMP:20260421T125520
CREATED:20231105T142233Z
LAST-MODIFIED:20231105T142252Z
UID:99023-1705406400-1705424400@brightonandhoveac.com
SUMMARY:Sussex School Cross Country Champs
DESCRIPTION:Entry via schools
URL:https://brightonandhoveac.com/event/sussex-school-cross-country-champs/
LOCATION:Waterhall\, Mill Lane\, Brighton\, BN1 8YR\, United Kingdom
CATEGORIES:Events
ATTACH;FMTTYPE=image/png:https://brightonandhoveac.com/wp-content/uploads/2021/05/sussex_athletics.png
END:VEVENT
BEGIN:VEVENT
DTSTART;TZID=Europe/London:20240118T080000
DTEND;TZID=Europe/London:20240118T170000
DTSTAMP:20260421T125520
CREATED:20240118T163504Z
LAST-MODIFIED:20240118T163504Z
UID:99254-1705564800-1705597200@brightonandhoveac.com
SUMMARY:Brighton Half Marathon and Youth Races
DESCRIPTION:
URL:https://brightonandhoveac.com/event/brighton-half-marathon-and-youth-races/
LOCATION:Madeira Drive\, Brighton\, BN2 1TB
CATEGORIES:Events
ATTACH;FMTTYPE=image/png:https://brightonandhoveac.com/wp-content/uploads/2024/01/Brighton-half.png
END:VEVENT
BEGIN:VEVENT
DTSTART;TZID=Europe/London:20240120T120000
DTEND;TZID=Europe/London:20240120T170000
DTSTAMP:20260421T125520
CREATED:20231105T143911Z
LAST-MODIFIED:20231105T143911Z
UID:99027-1705752000-1705770000@brightonandhoveac.com
SUMMARY:Sussex Master's Cross Country Championship
DESCRIPTION:Entry via Team Managers (Age groups V35 upwards)
URL:https://brightonandhoveac.com/event/sussex-masters-cross-country-championship/
LOCATION:Combs Farm\, Lancing
CATEGORIES:Events
ATTACH;FMTTYPE=image/png:https://brightonandhoveac.com/wp-content/uploads/2021/05/sussex_athletics.png
END:VEVENT
BEGIN:VEVENT
DTSTART;TZID=Europe/London:20240127T110000
DTEND;TZID=Europe/London:20240127T170000
DTSTAMP:20260421T125520
CREATED:20231105T144148Z
LAST-MODIFIED:20231105T144148Z
UID:99029-1706353200-1706374800@brightonandhoveac.com
SUMMARY:South of England Cross Country Championships
DESCRIPTION:Entry via Team Managers
URL:https://brightonandhoveac.com/event/south-of-england-cross-country-championships-3/
LOCATION:Beckenham Place Park\, Beckenham Hill Road\,\, Beckenham\, BR3 1UH\, United Kingdom
CATEGORIES:Events
ATTACH;FMTTYPE=image/png:https://brightonandhoveac.com/wp-content/uploads/2020/01/seaa-e1580033863936.png
END:VEVENT
END:VCALENDAR