BEGIN:VCALENDAR
VERSION:2.0
PRODID:-//Brighton &amp; Hove Athletic Club - ECPv6.15.20//NONSGML v1.0//EN
CALSCALE:GREGORIAN
METHOD:PUBLISH
X-ORIGINAL-URL:https://brightonandhoveac.com
X-WR-CALDESC:Events for Brighton &amp; Hove Athletic Club
REFRESH-INTERVAL;VALUE=DURATION:PT1H
X-Robots-Tag:noindex
X-PUBLISHED-TTL:PT1H
BEGIN:VTIMEZONE
TZID:Europe/London
BEGIN:DAYLIGHT
TZOFFSETFROM:+0000
TZOFFSETTO:+0100
TZNAME:BST
DTSTART:20220327T010000
END:DAYLIGHT
BEGIN:STANDARD
TZOFFSETFROM:+0100
TZOFFSETTO:+0000
TZNAME:GMT
DTSTART:20221030T010000
END:STANDARD
BEGIN:DAYLIGHT
TZOFFSETFROM:+0000
TZOFFSETTO:+0100
TZNAME:BST
DTSTART:20230326T010000
END:DAYLIGHT
BEGIN:STANDARD
TZOFFSETFROM:+0100
TZOFFSETTO:+0000
TZNAME:GMT
DTSTART:20231029T010000
END:STANDARD
BEGIN:DAYLIGHT
TZOFFSETFROM:+0000
TZOFFSETTO:+0100
TZNAME:BST
DTSTART:20240331T010000
END:DAYLIGHT
BEGIN:STANDARD
TZOFFSETFROM:+0100
TZOFFSETTO:+0000
TZNAME:GMT
DTSTART:20241027T010000
END:STANDARD
END:VTIMEZONE
BEGIN:VEVENT
DTSTART;TZID=Europe/London:20231104T110000
DTEND;TZID=Europe/London:20231104T170000
DTSTAMP:20260421T192757
CREATED:20230926T171821Z
LAST-MODIFIED:20230926T171821Z
UID:98978-1699095600-1699117200@brightonandhoveac.com
SUMMARY:English Cross Country Association Relays
DESCRIPTION:Entry via Team Managers
URL:https://brightonandhoveac.com/event/english-cross-country-association-relays/
LOCATION:Berry Hill Park\, Mansfield\, Nottinghamshire NG18 4JR
CATEGORIES:Events
ATTACH;FMTTYPE=image/jpeg:https://brightonandhoveac.com/wp-content/uploads/2021/09/ECCA-logo.jpg
END:VEVENT
BEGIN:VEVENT
DTSTART;TZID=Europe/London:20231111T080000
DTEND;TZID=Europe/London:20231111T170000
DTSTAMP:20260421T192757
CREATED:20230926T172011Z
LAST-MODIFIED:20230926T172011Z
UID:98980-1699689600-1699722000@brightonandhoveac.com
SUMMARY:Sussex Cross Country League (2)- Ardingly
DESCRIPTION:Entry online via Sussex Athletics website
URL:https://brightonandhoveac.com/event/sussex-cross-country-league-2-ardingly-2/
LOCATION:Ardingly Showground\, South of England Showground\, Selsfield Rd\, Haywards Heath\, RH17 6TH
CATEGORIES:Events
ATTACH;FMTTYPE=image/png:https://brightonandhoveac.com/wp-content/uploads/2021/05/sussex_athletics.png
END:VEVENT
BEGIN:VEVENT
DTSTART;TZID=Europe/London:20231119T090000
DTEND;TZID=Europe/London:20231119T130000
DTSTAMP:20260421T192757
CREATED:20230808T140128Z
LAST-MODIFIED:20230808T140128Z
UID:98848-1700384400-1700398800@brightonandhoveac.com
SUMMARY:Brighton & Hove AC 10K
DESCRIPTION:
URL:https://brightonandhoveac.com/event/brighton-hove-ac-10k/
LOCATION:Hove Lawns\, Brighton and Hove Seafront\, BN3 2PE
CATEGORIES:Events
ATTACH;FMTTYPE=image/jpeg:https://brightonandhoveac.com/wp-content/uploads/2023/08/Screenshot-2023-08-08-at-14.50.07.jpg
END:VEVENT
END:VCALENDAR