BEGIN:VCALENDAR
VERSION:2.0
PRODID:-//Brighton &amp; Hove Athletic Club - ECPv6.15.20//NONSGML v1.0//EN
CALSCALE:GREGORIAN
METHOD:PUBLISH
X-ORIGINAL-URL:https://brightonandhoveac.com
X-WR-CALDESC:Events for Brighton &amp; Hove Athletic Club
REFRESH-INTERVAL;VALUE=DURATION:PT1H
X-Robots-Tag:noindex
X-PUBLISHED-TTL:PT1H
BEGIN:VTIMEZONE
TZID:Europe/London
BEGIN:DAYLIGHT
TZOFFSETFROM:+0000
TZOFFSETTO:+0100
TZNAME:BST
DTSTART:20220327T010000
END:DAYLIGHT
BEGIN:STANDARD
TZOFFSETFROM:+0100
TZOFFSETTO:+0000
TZNAME:GMT
DTSTART:20221030T010000
END:STANDARD
BEGIN:DAYLIGHT
TZOFFSETFROM:+0000
TZOFFSETTO:+0100
TZNAME:BST
DTSTART:20230326T010000
END:DAYLIGHT
BEGIN:STANDARD
TZOFFSETFROM:+0100
TZOFFSETTO:+0000
TZNAME:GMT
DTSTART:20231029T010000
END:STANDARD
BEGIN:DAYLIGHT
TZOFFSETFROM:+0000
TZOFFSETTO:+0100
TZNAME:BST
DTSTART:20240331T010000
END:DAYLIGHT
BEGIN:STANDARD
TZOFFSETFROM:+0100
TZOFFSETTO:+0000
TZNAME:GMT
DTSTART:20241027T010000
END:STANDARD
END:VTIMEZONE
BEGIN:VEVENT
DTSTART;TZID=Europe/London:20230708T110000
DTEND;TZID=Europe/London:20230708T170000
DTSTAMP:20260422T024435
CREATED:20230308T164344Z
LAST-MODIFIED:20230308T164344Z
UID:98429-1688814000-1688835600@brightonandhoveac.com
SUMMARY:YDL Lower Age Group (Match 3)
DESCRIPTION:U13/U15 Entry via Team Manager
URL:https://brightonandhoveac.com/event/ydl-lower-age-group-match-3-2/
LOCATION:K2\, Crawley\, Pease Pottage Hill\, Crawley\, RH11 9BQ\, United Kingdom
CATEGORIES:Events
ATTACH;FMTTYPE=image/jpeg:https://brightonandhoveac.com/wp-content/uploads/2022/04/YDL.jpg
END:VEVENT
BEGIN:VEVENT
DTSTART;TZID=Europe/London:20230719T100000
DTEND;TZID=Europe/London:20230719T170000
DTSTAMP:20260422T024435
CREATED:20230225T161612Z
LAST-MODIFIED:20230225T161823Z
UID:98385-1689760800-1689786000@brightonandhoveac.com
SUMMARY:Southern Athletics League (Match 3)
DESCRIPTION:Entry via Team Managers
URL:https://brightonandhoveac.com/event/southern-athletics-league-match-3-3/
LOCATION:City of Salisbury AC\, Salisbury\, SP1 3NR\, United Kingdom
CATEGORIES:Events
ATTACH;FMTTYPE=image/png:https://brightonandhoveac.com/wp-content/uploads/2019/07/Screenshot-2019-07-26-08.54.33.png
END:VEVENT
BEGIN:VEVENT
DTSTART;TZID=Europe/London:20230722T110000
DTEND;TZID=Europe/London:20230722T170000
DTSTAMP:20260422T024435
CREATED:20230308T164512Z
LAST-MODIFIED:20230308T164512Z
UID:98431-1690023600-1690045200@brightonandhoveac.com
SUMMARY:YDL Lower Age Group (Match 4)
DESCRIPTION:U13/U15 Entry via Team Manager
URL:https://brightonandhoveac.com/event/ydl-lower-age-group-match-4/
LOCATION:Tooting Bec\, London
CATEGORIES:Events
ATTACH;FMTTYPE=image/jpeg:https://brightonandhoveac.com/wp-content/uploads/2022/04/YDL.jpg
END:VEVENT
BEGIN:VEVENT
DTSTART;TZID=Europe/London:20230724T183000
DTEND;TZID=Europe/London:20230724T203000
DTSTAMP:20260422T024435
CREATED:20230225T160124Z
LAST-MODIFIED:20230225T161211Z
UID:98375-1690223400-1690230600@brightonandhoveac.com
SUMMARY:Sussex Vets League (Match 3)
DESCRIPTION:Entry via Team Managers- All Veteran Women (+35 years) and Men (+40 years) will be able to take part as part of the scoring or non-scoring team
URL:https://brightonandhoveac.com/event/sussex-vets-league-match-3-2/
LOCATION:Lewes AC\, Mountfield Rd\,\, Lewes\, BN7 2XG\, United Kingdom
CATEGORIES:Events
ATTACH;FMTTYPE=image/png:https://brightonandhoveac.com/wp-content/uploads/2021/05/sussex_athletics.png
END:VEVENT
BEGIN:VEVENT
DTSTART;TZID=Europe/London:20230730T110000
DTEND;TZID=Europe/London:20230730T170000
DTSTAMP:20260422T024435
CREATED:20230308T163127Z
LAST-MODIFIED:20230308T163218Z
UID:98418-1690714800-1690736400@brightonandhoveac.com
SUMMARY:YDL Upper Age Group (Match 4)
DESCRIPTION:U17/U20 entry via Team Managers
URL:https://brightonandhoveac.com/event/ydl-upper-age-group-match-3-2/
LOCATION:Perivale
CATEGORIES:Events
ATTACH;FMTTYPE=image/jpeg:https://brightonandhoveac.com/wp-content/uploads/2022/04/YDL.jpg
END:VEVENT
END:VCALENDAR