BEGIN:VCALENDAR
VERSION:2.0
PRODID:-//Brighton &amp; Hove Athletic Club - ECPv6.15.20//NONSGML v1.0//EN
CALSCALE:GREGORIAN
METHOD:PUBLISH
X-WR-CALNAME:Brighton &amp; Hove Athletic Club
X-ORIGINAL-URL:https://brightonandhoveac.com
X-WR-CALDESC:Events for Brighton &amp; Hove Athletic Club
REFRESH-INTERVAL;VALUE=DURATION:PT1H
X-Robots-Tag:noindex
X-PUBLISHED-TTL:PT1H
BEGIN:VTIMEZONE
TZID:Europe/London
BEGIN:DAYLIGHT
TZOFFSETFROM:+0000
TZOFFSETTO:+0100
TZNAME:BST
DTSTART:20220327T010000
END:DAYLIGHT
BEGIN:STANDARD
TZOFFSETFROM:+0100
TZOFFSETTO:+0000
TZNAME:GMT
DTSTART:20221030T010000
END:STANDARD
BEGIN:DAYLIGHT
TZOFFSETFROM:+0000
TZOFFSETTO:+0100
TZNAME:BST
DTSTART:20230326T010000
END:DAYLIGHT
BEGIN:STANDARD
TZOFFSETFROM:+0100
TZOFFSETTO:+0000
TZNAME:GMT
DTSTART:20231029T010000
END:STANDARD
BEGIN:DAYLIGHT
TZOFFSETFROM:+0000
TZOFFSETTO:+0100
TZNAME:BST
DTSTART:20240331T010000
END:DAYLIGHT
BEGIN:STANDARD
TZOFFSETFROM:+0100
TZOFFSETTO:+0000
TZNAME:GMT
DTSTART:20241027T010000
END:STANDARD
END:VTIMEZONE
BEGIN:VEVENT
DTSTART;TZID=Europe/London:20230507T110000
DTEND;TZID=Europe/London:20230507T170000
DTSTAMP:20260422T060051
CREATED:20230308T163727Z
LAST-MODIFIED:20230308T163727Z
UID:98424-1683457200-1683478800@brightonandhoveac.com
SUMMARY:YDL Lower Age Group (Match 1)
DESCRIPTION:U13/U15 Entry via Team Managers
URL:https://brightonandhoveac.com/event/ydl-lower-age-group-match-1-2/
LOCATION:Bedford Stadium
CATEGORIES:Events
ATTACH;FMTTYPE=image/jpeg:https://brightonandhoveac.com/wp-content/uploads/2019/05/YDL.jpg
END:VEVENT
BEGIN:VEVENT
DTSTART;TZID=Europe/London:20230520T100000
DTEND;TZID=Europe/London:20230520T170000
DTSTAMP:20260422T060051
CREATED:20230225T160719Z
LAST-MODIFIED:20230225T161102Z
UID:98379-1684576800-1684602000@brightonandhoveac.com
SUMMARY:Southern Athletics League (Match 1)
DESCRIPTION:Entry via Team Managers
URL:https://brightonandhoveac.com/event/southern-athletics-league-match-1-2/
LOCATION:Colchester and Tendring AC\, Stable Road\, Colchester\, C02 7TL\, United Kingdom
CATEGORIES:Events
ATTACH;FMTTYPE=image/png:https://brightonandhoveac.com/wp-content/uploads/2019/07/Screenshot-2019-07-26-08.54.33.png
END:VEVENT
BEGIN:VEVENT
DTSTART;TZID=Europe/London:20230522T183000
DTEND;TZID=Europe/London:20230522T203000
DTSTAMP:20260422T060051
CREATED:20230225T155558Z
LAST-MODIFIED:20230225T155622Z
UID:98370-1684780200-1684787400@brightonandhoveac.com
SUMMARY:Sussex Vets League (Match 1)
DESCRIPTION:Entry via Team Managers- All Veteran Women (+35 years) and Men (+40 years) will be able to take part as part of the scoring or non-scoring team
URL:https://brightonandhoveac.com/event/sussex-vets-league-match-1/
LOCATION:Lewes AC\, Mountfield Rd\,\, Lewes\, BN7 2XG\, United Kingdom
CATEGORIES:Events
ATTACH;FMTTYPE=image/png:https://brightonandhoveac.com/wp-content/uploads/2021/05/sussex_athletics.png
END:VEVENT
BEGIN:VEVENT
DTSTART;TZID=Europe/London:20230526T173000
DTEND;TZID=Europe/London:20230526T203000
DTSTAMP:20260422T060051
CREATED:20230308T161723Z
LAST-MODIFIED:20230308T161723Z
UID:98410-1685122200-1685133000@brightonandhoveac.com
SUMMARY:U13 Sussex League (Match 2)
DESCRIPTION:Entry via Team Manager
URL:https://brightonandhoveac.com/event/u13-sussex-league-match-2/
LOCATION:Eastbourne AC\, Eastbourne Sports Park\, Cross Levels Way\, Eastbourne\, BN21 2UF\, United Kingdom
CATEGORIES:Events
ATTACH;FMTTYPE=image/png:https://brightonandhoveac.com/wp-content/uploads/2021/05/sussex_athletics.png
END:VEVENT
BEGIN:VEVENT
DTSTART;TZID=Europe/London:20230528T110000
DTEND;TZID=Europe/London:20230528T170000
DTSTAMP:20260422T060051
CREATED:20230308T162453Z
LAST-MODIFIED:20230308T162453Z
UID:98416-1685271600-1685293200@brightonandhoveac.com
SUMMARY:YDL Upper Age Group (Match 2)
DESCRIPTION:U17/u20 entry via Team Managers
URL:https://brightonandhoveac.com/event/ydl-upper-age-group-match-2-2/
LOCATION:Withdean Stadium\, Tongdean Lane\, Brighton\, BN1 5JD\, United Kingdom
CATEGORIES:Events
ATTACH;FMTTYPE=image/jpeg:https://brightonandhoveac.com/wp-content/uploads/2022/04/YDL.jpg
END:VEVENT
END:VCALENDAR