BEGIN:VCALENDAR
VERSION:2.0
PRODID:-//Brighton &amp; Hove Athletic Club - ECPv6.15.20//NONSGML v1.0//EN
CALSCALE:GREGORIAN
METHOD:PUBLISH
X-WR-CALNAME:Brighton &amp; Hove Athletic Club
X-ORIGINAL-URL:https://brightonandhoveac.com
X-WR-CALDESC:Events for Brighton &amp; Hove Athletic Club
REFRESH-INTERVAL;VALUE=DURATION:PT1H
X-Robots-Tag:noindex
X-PUBLISHED-TTL:PT1H
BEGIN:VTIMEZONE
TZID:Europe/London
BEGIN:DAYLIGHT
TZOFFSETFROM:+0000
TZOFFSETTO:+0100
TZNAME:BST
DTSTART:20220327T010000
END:DAYLIGHT
BEGIN:STANDARD
TZOFFSETFROM:+0100
TZOFFSETTO:+0000
TZNAME:GMT
DTSTART:20221030T010000
END:STANDARD
BEGIN:DAYLIGHT
TZOFFSETFROM:+0000
TZOFFSETTO:+0100
TZNAME:BST
DTSTART:20230326T010000
END:DAYLIGHT
BEGIN:STANDARD
TZOFFSETFROM:+0100
TZOFFSETTO:+0000
TZNAME:GMT
DTSTART:20231029T010000
END:STANDARD
BEGIN:DAYLIGHT
TZOFFSETFROM:+0000
TZOFFSETTO:+0100
TZNAME:BST
DTSTART:20240331T010000
END:DAYLIGHT
BEGIN:STANDARD
TZOFFSETFROM:+0100
TZOFFSETTO:+0000
TZNAME:GMT
DTSTART:20241027T010000
END:STANDARD
END:VTIMEZONE
BEGIN:VEVENT
DTSTART;TZID=Europe/London:20230408T120000
DTEND;TZID=Europe/London:20230408T170000
DTSTAMP:20260422T074610
CREATED:20230225T155235Z
LAST-MODIFIED:20230225T161300Z
UID:98368-1680955200-1680973200@brightonandhoveac.com
SUMMARY:Sussex Road Relays
DESCRIPTION:Entry via Team Managers
URL:https://brightonandhoveac.com/event/sussex-road-relays-2/
LOCATION:Preston Park\, London Road\, Brighton\, United Kingdom
CATEGORIES:Events
ATTACH;FMTTYPE=image/png:https://brightonandhoveac.com/wp-content/uploads/2021/05/sussex_athletics.png
END:VEVENT
BEGIN:VEVENT
DTSTART;TZID=Europe/London:20230428T173000
DTEND;TZID=Europe/London:20230428T203000
DTSTAMP:20260422T074610
CREATED:20230308T161505Z
LAST-MODIFIED:20230308T161505Z
UID:98408-1682703000-1682713800@brightonandhoveac.com
SUMMARY:U13 Sussex League (Match 1)
DESCRIPTION:Entry via Team Manager
URL:https://brightonandhoveac.com/event/u13-sussex-league-match-1/
LOCATION:Withdean Stadium\, Tongdean Lane\, Brighton\, BN1 5JD\, United Kingdom
CATEGORIES:Events
ATTACH;FMTTYPE=image/png:https://brightonandhoveac.com/wp-content/uploads/2021/05/sussex_athletics.png
END:VEVENT
BEGIN:VEVENT
DTSTART;TZID=Europe/London:20230430T110000
DTEND;TZID=Europe/London:20230430T170000
DTSTAMP:20260422T074610
CREATED:20230308T162306Z
LAST-MODIFIED:20230308T162306Z
UID:98414-1682852400-1682874000@brightonandhoveac.com
SUMMARY:YDL Upper Age Group (Match 1)
DESCRIPTION:Entry via Team Manager U17 and U20
URL:https://brightonandhoveac.com/event/ydl-upper-age-group-match-1/
LOCATION:Bournemouth
CATEGORIES:Events
ATTACH;FMTTYPE=image/jpeg:https://brightonandhoveac.com/wp-content/uploads/2022/04/YDL.jpg
END:VEVENT
END:VCALENDAR