BEGIN:VCALENDAR
VERSION:2.0
PRODID:-//Brighton &amp; Hove Athletic Club - ECPv6.15.20//NONSGML v1.0//EN
CALSCALE:GREGORIAN
METHOD:PUBLISH
X-WR-CALNAME:Brighton &amp; Hove Athletic Club
X-ORIGINAL-URL:https://brightonandhoveac.com
X-WR-CALDESC:Events for Brighton &amp; Hove Athletic Club
REFRESH-INTERVAL;VALUE=DURATION:PT1H
X-Robots-Tag:noindex
X-PUBLISHED-TTL:PT1H
BEGIN:VTIMEZONE
TZID:Europe/London
BEGIN:DAYLIGHT
TZOFFSETFROM:+0000
TZOFFSETTO:+0100
TZNAME:BST
DTSTART:20220327T010000
END:DAYLIGHT
BEGIN:STANDARD
TZOFFSETFROM:+0100
TZOFFSETTO:+0000
TZNAME:GMT
DTSTART:20221030T010000
END:STANDARD
BEGIN:DAYLIGHT
TZOFFSETFROM:+0000
TZOFFSETTO:+0100
TZNAME:BST
DTSTART:20230326T010000
END:DAYLIGHT
BEGIN:STANDARD
TZOFFSETFROM:+0100
TZOFFSETTO:+0000
TZNAME:GMT
DTSTART:20231029T010000
END:STANDARD
BEGIN:DAYLIGHT
TZOFFSETFROM:+0000
TZOFFSETTO:+0100
TZNAME:BST
DTSTART:20240331T010000
END:DAYLIGHT
BEGIN:STANDARD
TZOFFSETFROM:+0100
TZOFFSETTO:+0000
TZNAME:GMT
DTSTART:20241027T010000
END:STANDARD
END:VTIMEZONE
BEGIN:VEVENT
DTSTART;TZID=Europe/London:20230107T110000
DTEND;TZID=Europe/London:20230107T170000
DTSTAMP:20260422T123803
CREATED:20221127T151134Z
LAST-MODIFIED:20221127T151134Z
UID:98146-1673089200-1673110800@brightonandhoveac.com
SUMMARY:Sussex Cross Country Championships
DESCRIPTION:Entry via Team Manager
URL:https://brightonandhoveac.com/event/sussex-cross-country-championships/
LOCATION:Bexhill Leisure Centre\, TN39 4HS
CATEGORIES:Events
ATTACH;FMTTYPE=image/png:https://brightonandhoveac.com/wp-content/uploads/2021/05/sussex_athletics.png
END:VEVENT
BEGIN:VEVENT
DTSTART;TZID=Europe/London:20230114T090000
DTEND;TZID=Europe/London:20230114T170000
DTSTAMP:20260422T123803
CREATED:20221127T155516Z
LAST-MODIFIED:20221127T155516Z
UID:98154-1673686800-1673715600@brightonandhoveac.com
SUMMARY:U13/U15 & U17 Individual Indoor Championships
DESCRIPTION:Two day event 14-15th January 2023
URL:https://brightonandhoveac.com/event/u13-u15-u17-individual-indoor-championships/
LOCATION:Lee Valley\, 61 Meridian Way\, Edmonton\, London\, N9 0AR
CATEGORIES:Events
ATTACH;FMTTYPE=image/png:https://brightonandhoveac.com/wp-content/uploads/2020/01/seaa-e1580033863936.png
END:VEVENT
BEGIN:VEVENT
DTSTART;TZID=Europe/London:20230117T110000
DTEND;TZID=Europe/London:20230117T150000
DTSTAMP:20260422T123803
CREATED:20221127T154126Z
LAST-MODIFIED:20221127T154126Z
UID:98150-1673953200-1673967600@brightonandhoveac.com
SUMMARY:Sussex Schools Cross Country Champs
DESCRIPTION:Entry via individuals school
URL:https://brightonandhoveac.com/event/sussex-schools-cross-country-champs/
LOCATION:Waterhall\, Mill Lane\, Brighton\, BN1 8YR\, United Kingdom
CATEGORIES:Events
ATTACH;FMTTYPE=image/png:https://brightonandhoveac.com/wp-content/uploads/2021/05/sussex_athletics.png
END:VEVENT
BEGIN:VEVENT
DTSTART;TZID=Europe/London:20230122T100000
DTEND;TZID=Europe/London:20230122T160000
DTSTAMP:20260422T123803
CREATED:20221006T075047Z
LAST-MODIFIED:20221006T075047Z
UID:98024-1674381600-1674403200@brightonandhoveac.com
SUMMARY:Sportshall League match 3
DESCRIPTION:Indoor league for U11\, U13 and U15 athletes.   Entry via Team Manager
URL:https://brightonandhoveac.com/event/sportshall-league-match-3/
LOCATION:Worthing Leisure Centre
CATEGORIES:Events
ATTACH;FMTTYPE=image/png:https://brightonandhoveac.com/wp-content/uploads/2021/05/sussex_athletics.png
END:VEVENT
BEGIN:VEVENT
DTSTART;TZID=Europe/London:20230128T080000
DTEND;TZID=Europe/London:20230128T170000
DTSTAMP:20260422T123803
CREATED:20221127T161640Z
LAST-MODIFIED:20221127T161640Z
UID:98158-1674892800-1674925200@brightonandhoveac.com
SUMMARY:South of England Cross Country Championships
DESCRIPTION:Entry via Team Manager
URL:https://brightonandhoveac.com/event/south-of-england-cross-country-championships-2/
LOCATION:Beckenham Place Park\, Beckenham Hill Road\,\, Beckenham\, BR3 1UH\, United Kingdom
CATEGORIES:Events
ATTACH;FMTTYPE=image/png:https://brightonandhoveac.com/wp-content/uploads/2020/01/seaa-e1580033863936.png
END:VEVENT
END:VCALENDAR