BEGIN:VCALENDAR
VERSION:2.0
PRODID:-//Brighton &amp; Hove Athletic Club - ECPv6.15.20//NONSGML v1.0//EN
CALSCALE:GREGORIAN
METHOD:PUBLISH
X-ORIGINAL-URL:https://brightonandhoveac.com
X-WR-CALDESC:Events for Brighton &amp; Hove Athletic Club
REFRESH-INTERVAL;VALUE=DURATION:PT1H
X-Robots-Tag:noindex
X-PUBLISHED-TTL:PT1H
BEGIN:VTIMEZONE
TZID:Europe/London
BEGIN:DAYLIGHT
TZOFFSETFROM:+0000
TZOFFSETTO:+0100
TZNAME:BST
DTSTART:20210328T010000
END:DAYLIGHT
BEGIN:STANDARD
TZOFFSETFROM:+0100
TZOFFSETTO:+0000
TZNAME:GMT
DTSTART:20211031T010000
END:STANDARD
BEGIN:DAYLIGHT
TZOFFSETFROM:+0000
TZOFFSETTO:+0100
TZNAME:BST
DTSTART:20220327T010000
END:DAYLIGHT
BEGIN:STANDARD
TZOFFSETFROM:+0100
TZOFFSETTO:+0000
TZNAME:GMT
DTSTART:20221030T010000
END:STANDARD
BEGIN:DAYLIGHT
TZOFFSETFROM:+0000
TZOFFSETTO:+0100
TZNAME:BST
DTSTART:20230326T010000
END:DAYLIGHT
BEGIN:STANDARD
TZOFFSETFROM:+0100
TZOFFSETTO:+0000
TZNAME:GMT
DTSTART:20231029T010000
END:STANDARD
END:VTIMEZONE
BEGIN:VEVENT
DTSTART;TZID=Europe/London:20220807T100000
DTEND;TZID=Europe/London:20220807T170000
DTSTAMP:20260422T202113
CREATED:20220428T131110Z
LAST-MODIFIED:20220716T150526Z
UID:97659-1659866400-1659891600@brightonandhoveac.com
SUMMARY:YDL Upper Age Group Match 4
DESCRIPTION:Entry via Team Manager
URL:https://brightonandhoveac.com/event/ydl-upper-age-group-match-4/
LOCATION:Mountbatten Stadium\, Portsmouth
CATEGORIES:Events
ATTACH;FMTTYPE=image/jpeg:https://brightonandhoveac.com/wp-content/uploads/2019/05/YDL.jpg
END:VEVENT
BEGIN:VEVENT
DTSTART;TZID=Europe/London:20220813T103000
DTEND;TZID=Europe/London:20220813T170000
DTSTAMP:20260422T202113
CREATED:20220324T075059Z
LAST-MODIFIED:20220324T075312Z
UID:97627-1660386600-1660410000@brightonandhoveac.com
SUMMARY:Southern Athletics League (Match 4)
DESCRIPTION:Entries via Team Manager
URL:https://brightonandhoveac.com/event/southern-athletics-league-match-3/
LOCATION:Withdean Stadium\, Tongdean Lane\, Brighton\, BN1 5JD\, United Kingdom
CATEGORIES:Events
ATTACH;FMTTYPE=image/png:https://brightonandhoveac.com/wp-content/uploads/2019/07/Screenshot-2019-07-26-08.54.33.png
END:VEVENT
END:VCALENDAR