BEGIN:VCALENDAR
VERSION:2.0
PRODID:-//Brighton &amp; Hove Athletic Club - ECPv6.15.20//NONSGML v1.0//EN
CALSCALE:GREGORIAN
METHOD:PUBLISH
X-ORIGINAL-URL:https://brightonandhoveac.com
X-WR-CALDESC:Events for Brighton &amp; Hove Athletic Club
REFRESH-INTERVAL;VALUE=DURATION:PT1H
X-Robots-Tag:noindex
X-PUBLISHED-TTL:PT1H
BEGIN:VTIMEZONE
TZID:Europe/London
BEGIN:DAYLIGHT
TZOFFSETFROM:+0000
TZOFFSETTO:+0100
TZNAME:BST
DTSTART:20200329T010000
END:DAYLIGHT
BEGIN:STANDARD
TZOFFSETFROM:+0100
TZOFFSETTO:+0000
TZNAME:GMT
DTSTART:20201025T010000
END:STANDARD
BEGIN:DAYLIGHT
TZOFFSETFROM:+0000
TZOFFSETTO:+0100
TZNAME:BST
DTSTART:20210328T010000
END:DAYLIGHT
BEGIN:STANDARD
TZOFFSETFROM:+0100
TZOFFSETTO:+0000
TZNAME:GMT
DTSTART:20211031T010000
END:STANDARD
BEGIN:DAYLIGHT
TZOFFSETFROM:+0000
TZOFFSETTO:+0100
TZNAME:BST
DTSTART:20220327T010000
END:DAYLIGHT
BEGIN:STANDARD
TZOFFSETFROM:+0100
TZOFFSETTO:+0000
TZNAME:GMT
DTSTART:20221030T010000
END:STANDARD
END:VTIMEZONE
BEGIN:VEVENT
DTSTART;TZID=Europe/London:20211009T080000
DTEND;TZID=Europe/London:20211009T170000
DTSTAMP:20260425T114158
CREATED:20210916T122422Z
LAST-MODIFIED:20210916T123950Z
UID:97113-1633766400-1633798800@brightonandhoveac.com
SUMMARY:English National Road Relays
DESCRIPTION:Entries via Team Managers
URL:https://brightonandhoveac.com/event/english-national-road-relays/
LOCATION:Sutton Park\, Birmingham
CATEGORIES:Events
END:VEVENT
BEGIN:VEVENT
DTSTART;TZID=Europe/London:20211016T100000
DTEND;TZID=Europe/London:20211016T170000
DTSTAMP:20260425T114158
CREATED:20210916T122701Z
LAST-MODIFIED:20210916T123815Z
UID:97115-1634378400-1634403600@brightonandhoveac.com
SUMMARY:Cross Country League (1)
DESCRIPTION:Enter on the day £5/4
URL:https://brightonandhoveac.com/event/cross-country-league-1/
LOCATION:Goodwood Race Course\, PO18 0PS
CATEGORIES:Events
ATTACH;FMTTYPE=image/png:https://brightonandhoveac.com/wp-content/uploads/2021/05/sussex_athletics.png
END:VEVENT
BEGIN:VEVENT
DTSTART;TZID=Europe/London:20211023T080000
DTEND;TZID=Europe/London:20211023T170000
DTSTAMP:20260425T114158
CREATED:20210916T122940Z
LAST-MODIFIED:20210916T123742Z
UID:97117-1634976000-1635008400@brightonandhoveac.com
SUMMARY:South of England Cross Country Relays
DESCRIPTION:Entries via Team Managers
URL:https://brightonandhoveac.com/event/south-of-england-cross-country-relays/
LOCATION:Wormwood Scrub\, London (tbc)
CATEGORIES:Events
ATTACH;FMTTYPE=image/png:https://brightonandhoveac.com/wp-content/uploads/2020/01/seaa-e1580033863936.png
END:VEVENT
END:VCALENDAR