BEGIN:VCALENDAR
VERSION:2.0
PRODID:-//Brighton &amp; Hove Athletic Club - ECPv6.15.20//NONSGML v1.0//EN
CALSCALE:GREGORIAN
METHOD:PUBLISH
X-WR-CALNAME:Brighton &amp; Hove Athletic Club
X-ORIGINAL-URL:https://brightonandhoveac.com
X-WR-CALDESC:Events for Brighton &amp; Hove Athletic Club
REFRESH-INTERVAL;VALUE=DURATION:PT1H
X-Robots-Tag:noindex
X-PUBLISHED-TTL:PT1H
BEGIN:VTIMEZONE
TZID:Europe/London
BEGIN:DAYLIGHT
TZOFFSETFROM:+0000
TZOFFSETTO:+0100
TZNAME:BST
DTSTART:20220327T010000
END:DAYLIGHT
BEGIN:STANDARD
TZOFFSETFROM:+0100
TZOFFSETTO:+0000
TZNAME:GMT
DTSTART:20221030T010000
END:STANDARD
BEGIN:DAYLIGHT
TZOFFSETFROM:+0000
TZOFFSETTO:+0100
TZNAME:BST
DTSTART:20230326T010000
END:DAYLIGHT
BEGIN:STANDARD
TZOFFSETFROM:+0100
TZOFFSETTO:+0000
TZNAME:GMT
DTSTART:20231029T010000
END:STANDARD
BEGIN:DAYLIGHT
TZOFFSETFROM:+0000
TZOFFSETTO:+0100
TZNAME:BST
DTSTART:20240331T010000
END:DAYLIGHT
BEGIN:STANDARD
TZOFFSETFROM:+0100
TZOFFSETTO:+0000
TZNAME:GMT
DTSTART:20241027T010000
END:STANDARD
END:VTIMEZONE
BEGIN:VEVENT
DTSTART;TZID=Europe/London:20231210T100000
DTEND;TZID=Europe/London:20231210T150000
DTSTAMP:20260423T124458
CREATED:20231013T120521Z
LAST-MODIFIED:20231013T120521Z
UID:98999-1702202400-1702220400@brightonandhoveac.com
SUMMARY:Sussex Sportshall League  – Under 11\,13 &15
DESCRIPTION:Entry via Team Manager
URL:https://brightonandhoveac.com/event/sussex-sportshall-league-under-1113-15/
LOCATION:Worthing Leisure Centre
CATEGORIES:Events
ATTACH;FMTTYPE=image/png:https://brightonandhoveac.com/wp-content/uploads/2021/05/sussex_athletics.png
END:VEVENT
END:VCALENDAR